Workbook

Sheet 졸업인증 꿈설계상담 안내
J1: 학년 | K1: 학번(2자리) | L1: 이름 | M1: 지도교수님
B2: 2026학년도 2학기 비교과과정 꿈설계상담 안내 | J2: 1 | K2: 26 | L2: 구희선 | M2: 안덕근
J3: 1 | K3: 26 | L3: 김도영 | M3: 안덕근
B4: 1. 하단의 시트를 클릭하거나 아래에 본인 정보를 입력하여 지도교수를 확인합니다. | J4: 1 | K4: 26 | L4: 김동우 | M4: 정영미
B5: 2. 상담을 실시한 후, 첨부파일을 확인하여 상담 결과를 입력합니다. | J5: 1 | K5: 26 | L5: 김세영 | M5: 정영미
B6: 3. 파일을 열면 상단의 "편집 사용"을 클릭해야 ‘본인 정보로 간편하게 찾기’ 기능이 작동합니다. | J6: 1 | K6: 26 | L6: 김소윤 | M6: 정영미
J7: 1 | K7: 26 | L7: 김은아 | M7: 황현석
B8: ★ 본인 정보로 간편하게 찾기 ★ | J8: 1 | K8: 26 | L8: 김태우 | M8: 황현석
J9: 1 | K9: 26 | L9: 남지해 | M9: 황현석
B10: 학번(2자리) | C10: 이름 | E10: 지도교수님 | J10: 1 | K10: 26 | L10: 박소은 | M10: 이강문
B11: 26 | C11: 김화학 | E11: =IFERROR(DGET($K$1:$M$92,E10,B10:C11)&" 교수님","학번과 이름을 입력하세요.") -> 학번과 이름을 입력하세요. | F11: =IFERROR(HYPERLINK("#'"&SUBSTITUTE(E11," 교수님","")&"'!A1","▶ 시트 이동"),"") -> ▶ 시트 이동 | J11: 1 | K11: 26 | L11: 박현우 | M11: 이강문
J12: 1 | K12: 26 | L12: 변연우 | M12: 이강문
B13: 예) 본인 학번이 202612345인 경우 위와 같이 26로 입력 | E13: ※ 학번과 이름을 정확히 입력하지 않을 경우 '학번과 이름을 입력하세요.'로 표시되며 시트이동 셀이 연두색(▶ 시트 이동)으로 표시됩니다. ※ 지도교수님이 조회되면 하늘색의 ▶ 시트 이동을 눌러 해당 교수님 시트로 바로 이동할 수 있습니다. | J13: 1 | K13: 26 | L13: 손원준 | M13: 박종민
J14: 1 | K14: 26 | L14: 신성채 | M14: 박종민
J15: 1 | K15: 26 | L15: 안은선 | M15: 박종민
J16: 1 | K16: 26 | L16: 오상현 | M16: 이원철
J17: 1 | K17: 26 | L17: 오세윤 | M17: 박종민
J18: 1 | K18: 26 | L18: 유남혁 | M18: 이원철
J19: 1 | K19: 26 | L19: 윤혜원 | M19: 이원철
J20: 1 | K20: 26 | L20: 이규환 | M20: 조아라
J21: 1 | K21: 26 | L21: 이동현 | M21: 조아라
J22: 1 | K22: 26 | L22: 이예찬 | M22: 강경원
J23: 1 | K23: 26 | L23: 이준영 | M23: 신동엽
J24: 1 | K24: 25 | L24: 이현진 | M24: 신동엽
J25: 1 | K25: 26 | L25: 이현진 | M25: 이원철
... J54: 3 | K54: 24 | L54: 허채은 | M54: 정영미

Sheet 강경원
B2: 화학전공 비교과과정 꿈-설계상담
D3: 지도교수 | E3: 강경원 교수님
D4: 연구실 | E4: 자3-412호
B5: 학년 | C5: 학번 | D5: 성명 | E5: 비고
B6: {=IFERROR(INDEX('졸업인증 꿈설계상담 안내'!$J$2:$J$98, SMALL(IF('졸업인증 꿈설계상담 안내'!$M$2:$M$98= MID(CELL("filename",B6),FIND("]",CELL("filename",B6))+1,255), ROW('졸업인증 꿈설계상담 안내'!$J$2:$J$98)-ROW('졸업인증 꿈설계상담 안내'!$J$2)+1), ROW(A1))),"")} -> 1 | C6: {=IFERROR(INDEX('졸업인증 꿈설계상담 안내'!$K$2:$K$98, SMALL(IF('졸업인증 꿈설계상담 안내'!$M$2:$M$98= MID(CELL("filename",B6),FIND("]",CELL("filename",B6))+1,255), ROW('졸업인증 꿈설계상담 안내'!$K$2:$K$98)-ROW('졸업인증 꿈설계상담 안내'!$K$2)+1), ROW(A1))),"")} -> 26 | D6: {=IFERROR(INDEX('졸업인증 꿈설계상담 안내'!$L$2:$L$98, SMALL(IF('졸업인증 꿈설계상담 안내'!$M$2:$M$98= MID(CELL("filename",B6),FIND("]",CELL("filename",B6))+1,255), ROW('졸업인증 꿈설계상담 안내'!$L$2:$L$98)-ROW('졸업인증 꿈설계상담 안내'!$L$2)+1), ROW(A1))),"")} -> 이예찬
B7: {=IFERROR(INDEX('졸업인증 꿈설계상담 안내'!$J$2:$J$98, SMALL(IF('졸업인증 꿈설계상담 안내'!$M$2:$M$98= MID(CELL("filename",B7),FIND("]",CELL("filename",B7))+1,255), ROW('졸업인증 꿈설계상담 안내'!$J$2:$J$98)-ROW('졸업인증 꿈설계상담 안내'!$J$2)+1), ROW(A2))),"")} -> 1 | C7: {=IFERROR(INDEX('졸업인증 꿈설계상담 안내'!$K$2:$K$98, SMALL(IF('졸업인증 꿈설계상담 안내'!$M$2:$M$98= MID(CELL("filename",B7),FIND("]",CELL("filename",B7))+1,255), ROW('졸업인증 꿈설계상담 안내'!$K$2:$K$98)-ROW('졸업인증 꿈설계상담 안내'!$K$2)+1), ROW(A2))),"")} -> 26 | D7: {=IFERROR(INDEX('졸업인증 꿈설계상담 안내'!$L$2:$L$98, SMALL(IF('졸업인증 꿈설계상담 안내'!$M$2:$M$98= MID(CELL("filename",B7),FIND("]",CELL("filename",B7))+1,255), ROW('졸업인증 꿈설계상담 안내'!$L$2:$L$98)-ROW('졸업인증 꿈설계상담 안내'!$L$2)+1), ROW(A2))),"")} -> 정해윤
B8: {=IFERROR(INDEX('졸업인증 꿈설계상담 안내'!$J$2:$J$98, SMALL(IF('졸업인증 꿈설계상담 안내'!$M$2:$M$98= MID(CELL("filename",B8),FIND("]",CELL("filename",B8))+1,255), ROW('졸업인증 꿈설계상담 안내'!$J$2:$J$98)-ROW('졸업인증 꿈설계상담 안내'!$J$2)+1), ROW(A3))),"")} -> 1 | C8: {=IFERROR(INDEX('졸업인증 꿈설계상담 안내'!$K$2:$K$98, SMALL(IF('졸업인증 꿈설계상담 안내'!$M$2:$M$98= MID(CELL("filename",B8),FIND("]",CELL("filename",B8))+1,255), ROW('졸업인증 꿈설계상담 안내'!$K$2:$K$98)-ROW('졸업인증 꿈설계상담 안내'!$K$2)+1), ROW(A3))),"")} -> 25 | D8: {=IFERROR(INDEX('졸업인증 꿈설계상담 안내'!$L$2:$L$98, SMALL(IF('졸업인증 꿈설계상담 안내'!$M$2:$M$98= MID(CELL("filename",B8),FIND("]",CELL("filename",B8))+1,255), ROW('졸업인증 꿈설계상담 안내'!$L$2:$L$98)-ROW('졸업인증 꿈설계상담 안내'!$L$2)+1), ROW(A3))),"")} -> 조가온
B9: {=IFERROR(INDEX('졸업인증 꿈설계상담 안내'!$J$2:$J$98, SMALL(IF('졸업인증 꿈설계상담 안내'!$M$2:$M$98= MID(CELL("filename",B9),FIND("]",CELL("filename",B9))+1,255), ROW('졸업인증 꿈설계상담 안내'!$J$2:$J$98)-ROW('졸업인증 꿈설계상담 안내'!$J$2)+1), ROW(A4))),"")} -> 2 | C9: {=IFERROR(INDEX('졸업인증 꿈설계상담 안내'!$K$2:$K$98, SMALL(IF('졸업인증 꿈설계상담 안내'!$M$2:$M$98= MID(CELL("filename",B9),FIND("]",CELL("filename",B9))+1,255), ROW('졸업인증 꿈설계상담 안내'!$K$2:$K$98)-ROW('졸업인증 꿈설계상담 안내'!$K$2)+1), ROW(A4))),"")} -> 23 | D9: {=IFERROR(INDEX('졸업인증 꿈설계상담 안내'!$L$2:$L$98, SMALL(IF('졸업인증 꿈설계상담 안내'!$M$2:$M$98= MID(CELL("filename",B9),FIND("]",CELL("filename",B9))+1,255), ROW('졸업인증 꿈설계상담 안내'!$L$2:$L$98)-ROW('졸업인증 꿈설계상담 안내'!$L$2)+1), ROW(A4))),"")} -> 이상혁
B10: {=IFERROR(INDEX('졸업인증 꿈설계상담 안내'!$J$2:$J$98, SMALL(IF('졸업인증 꿈설계상담 안내'!$M$2:$M$98= MID(CELL("filename",B10),FIND("]",CELL("filename",B10))+1,255), ROW('졸업인증 꿈설계상담 안내'!$J$2:$J$98)-ROW('졸업인증 꿈설계상담 안내'!$J$2)+1), ROW(A5))),"")} -> 2 | C10: {=IFERROR(INDEX('졸업인증 꿈설계상담 안내'!$K$2:$K$98, SMALL(IF('졸업인증 꿈설계상담 안내'!$M$2:$M$98= MID(CELL("filename",B10),FIND("]",CELL("filename",B10))+1,255), ROW('졸업인증 꿈설계상담 안내'!$K$2:$K$98)-ROW('졸업인증 꿈설계상담 안내'!$K$2)+1), ROW(A5))),"")} -> 25 | D10: {=IFERROR(INDEX('졸업인증 꿈설계상담 안내'!$L$2:$L$98, SMALL(IF('졸업인증 꿈설계상담 안내'!$M$2:$M$98= MID(CELL("filename",B10),FIND("]",CELL("filename",B10))+1,255), ROW('졸업인증 꿈설계상담 안내'!$L$2:$L$98)-ROW('졸업인증 꿈설계상담 안내'!$L$2)+1), ROW(A5))),"")} -> 박시은
B11: {=IFERROR(INDEX('졸업인증 꿈설계상담 안내'!$J$2:$J$98, SMALL(IF('졸업인증 꿈설계상담 안내'!$M$2:$M$98= MID(CELL("filename",B11),FIND("]",CELL("filename",B11))+1,255), ROW('졸업인증 꿈설계상담 안내'!$J$2:$J$98)-ROW('졸업인증 꿈설계상담 안내'!$J$2)+1), ROW(A6))),"")} -> 2 | C11: {=IFERROR(INDEX('졸업인증 꿈설계상담 안내'!$K$2:$K$98, SMALL(IF('졸업인증 꿈설계상담 안내'!$M$2:$M$98= MID(CELL("filename",B11),FIND("]",CELL("filename",B11))+1,255), ROW('졸업인증 꿈설계상담 안내'!$K$2:$K$98)-ROW('졸업인증 꿈설계상담 안내'!$K$2)+1), ROW(A6))),"")} -> 25 | D11: {=IFERROR(INDEX('졸업인증 꿈설계상담 안내'!$L$2:$L$98, SMALL(IF('졸업인증 꿈설계상담 안내'!$M$2:$M$98= MID(CELL("filename",B11),FIND("]",CELL("filename",B11))+1,255), ROW('졸업인증 꿈설계상담 안내'!$L$2:$L$98)-ROW('졸업인증 꿈설계상담 안내'!$L$2)+1), ROW(A6))),"")} -> 심윤섭
B12: {=IFERROR(INDEX('졸업인증 꿈설계상담 안내'!$J$2:$J$98, SMALL(IF('졸업인증 꿈설계상담 안내'!$M$2:$M$98= MID(CELL("filename",B12),FIND("]",CELL("filename",B12))+1,255), ROW('졸업인증 꿈설계상담 안내'!$J$2:$J$98)-ROW('졸업인증 꿈설계상담 안내'!$J$2)+1), ROW(A7))),"")} | C12: {=IFERROR(INDEX('졸업인증 꿈설계상담 안내'!$K$2:$K$98, SMALL(IF('졸업인증 꿈설계상담 안내'!$M$2:$M$98= MID(CELL("filename",B12),FIND("]",CELL("filename",B12))+1,255), ROW('졸업인증 꿈설계상담 안내'!$K$2:$K$98)-ROW('졸업인증 꿈설계상담 안내'!$K$2)+1), ROW(A7))),"")} | D12: {=IFERROR(INDEX('졸업인증 꿈설계상담 안내'!$L$2:$L$98, SMALL(IF('졸업인증 꿈설계상담 안내'!$M$2:$M$98= MID(CELL("filename",B12),FIND("]",CELL("filename",B12))+1,255), ROW('졸업인증 꿈설계상담 안내'!$L$2:$L$98)-ROW('졸업인증 꿈설계상담 안내'!$L$2)+1), ROW(A7))),"")}
B13: {=IFERROR(INDEX('졸업인증 꿈설계상담 안내'!$J$2:$J$98, SMALL(IF('졸업인증 꿈설계상담 안내'!$M$2:$M$98= MID(CELL("filename",B13),FIND("]",CELL("filename",B13))+1,255), ROW('졸업인증 꿈설계상담 안내'!$J$2:$J$98)-ROW('졸업인증 꿈설계상담 안내'!$J$2)+1), ROW(A8))),"")} | C13: {=IFERROR(INDEX('졸업인증 꿈설계상담 안내'!$K$2:$K$98, SMALL(IF('졸업인증 꿈설계상담 안내'!$M$2:$M$98= MID(CELL("filename",B13),FIND("]",CELL("filename",B13))+1,255), ROW('졸업인증 꿈설계상담 안내'!$K$2:$K$98)-ROW('졸업인증 꿈설계상담 안내'!$K$2)+1), ROW(A8))),"")} | D13: {=IFERROR(INDEX('졸업인증 꿈설계상담 안내'!$L$2:$L$98, SMALL(IF('졸업인증 꿈설계상담 안내'!$M$2:$M$98= MID(CELL("filename",B13),FIND("]",CELL("filename",B13))+1,255), ROW('졸업인증 꿈설계상담 안내'!$L$2:$L$98)-ROW('졸업인증 꿈설계상담 안내'!$L$2)+1), ROW(A8))),"")}
B14: 인원 | D14: =COUNT(B6:B13)&"명" -> 6명

Sheet 권찬호
B2: 화학전공 비교과과정 꿈-설계상담
D3: 지도교수 | E3: 권찬호 교수님
D4: 연구실 | E4: 자1-311호
B5: 학년 | C5: 학번 | D5: 성명 | E5: 비고
B6: 1 | C6: 25 | D6: 송재윤
B7: 1 | C7: 25 | D7: 조수빈
B8: 2 | C8: 23 | D8: 배태은
B9: 2 | C9: 24 | D9: 정서현
B10: 2 | C10: 24 | D10: 배준형
B14: 인원 | D14: =COUNT(B6:B13)&"명" -> 5명

Sheet 박종민
B2: 화학전공 비교과과정 꿈-설계상담
D3: 지도교수 | E3: 박종민 교수님
D4: 연구실 | E4: 자1-411호
B5: 학년 | C5: 학번 | D5: 성명 | E5: 비고
B6: {=IFERROR(INDEX('졸업인증 꿈설계상담 안내'!$J$2:$J$98, SMALL(IF('졸업인증 꿈설계상담 안내'!$M$2:$M$98= MID(CELL("filename",B6),FIND("]",CELL("filename",B6))+1,255), ROW('졸업인증 꿈설계상담 안내'!$J$2:$J$98)-ROW('졸업인증 꿈설계상담 안내'!$J$2)+1), ROW(A1))),"")} -> 1 | C6: {=IFERROR(INDEX('졸업인증 꿈설계상담 안내'!$K$2:$K$98, SMALL(IF('졸업인증 꿈설계상담 안내'!$M$2:$M$98= MID(CELL("filename",B6),FIND("]",CELL("filename",B6))+1,255), ROW('졸업인증 꿈설계상담 안내'!$K$2:$K$98)-ROW('졸업인증 꿈설계상담 안내'!$K$2)+1), ROW(A1))),"")} -> 26 | D6: {=IFERROR(INDEX('졸업인증 꿈설계상담 안내'!$L$2:$L$98, SMALL(IF('졸업인증 꿈설계상담 안내'!$M$2:$M$98= MID(CELL("filename",B6),FIND("]",CELL("filename",B6))+1,255), ROW('졸업인증 꿈설계상담 안내'!$L$2:$L$98)-ROW('졸업인증 꿈설계상담 안내'!$L$2)+1), ROW(A1))),"")} -> 손원준
B7: {=IFERROR(INDEX('졸업인증 꿈설계상담 안내'!$J$2:$J$98, SMALL(IF('졸업인증 꿈설계상담 안내'!$M$2:$M$98= MID(CELL("filename",B7),FIND("]",CELL("filename",B7))+1,255), ROW('졸업인증 꿈설계상담 안내'!$J$2:$J$98)-ROW('졸업인증 꿈설계상담 안내'!$J$2)+1), ROW(A2))),"")} -> 1 | C7: {=IFERROR(INDEX('졸업인증 꿈설계상담 안내'!$K$2:$K$98, SMALL(IF('졸업인증 꿈설계상담 안내'!$M$2:$M$98= MID(CELL("filename",B7),FIND("]",CELL("filename",B7))+1,255), ROW('졸업인증 꿈설계상담 안내'!$K$2:$K$98)-ROW('졸업인증 꿈설계상담 안내'!$K$2)+1), ROW(A2))),"")} -> 26 | D7: {=IFERROR(INDEX('졸업인증 꿈설계상담 안내'!$L$2:$L$98, SMALL(IF('졸업인증 꿈설계상담 안내'!$M$2:$M$98= MID(CELL("filename",B7),FIND("]",CELL("filename",B7))+1,255), ROW('졸업인증 꿈설계상담 안내'!$L$2:$L$98)-ROW('졸업인증 꿈설계상담 안내'!$L$2)+1), ROW(A2))),"")} -> 신성채
B8: {=IFERROR(INDEX('졸업인증 꿈설계상담 안내'!$J$2:$J$98, SMALL(IF('졸업인증 꿈설계상담 안내'!$M$2:$M$98= MID(CELL("filename",B8),FIND("]",CELL("filename",B8))+1,255), ROW('졸업인증 꿈설계상담 안내'!$J$2:$J$98)-ROW('졸업인증 꿈설계상담 안내'!$J$2)+1), ROW(A3))),"")} -> 1 | C8: {=IFERROR(INDEX('졸업인증 꿈설계상담 안내'!$K$2:$K$98, SMALL(IF('졸업인증 꿈설계상담 안내'!$M$2:$M$98= MID(CELL("filename",B8),FIND("]",CELL("filename",B8))+1,255), ROW('졸업인증 꿈설계상담 안내'!$K$2:$K$98)-ROW('졸업인증 꿈설계상담 안내'!$K$2)+1), ROW(A3))),"")} -> 26 | D8: {=IFERROR(INDEX('졸업인증 꿈설계상담 안내'!$L$2:$L$98, SMALL(IF('졸업인증 꿈설계상담 안내'!$M$2:$M$98= MID(CELL("filename",B8),FIND("]",CELL("filename",B8))+1,255), ROW('졸업인증 꿈설계상담 안내'!$L$2:$L$98)-ROW('졸업인증 꿈설계상담 안내'!$L$2)+1), ROW(A3))),"")} -> 안은선
B9: {=IFERROR(INDEX('졸업인증 꿈설계상담 안내'!$J$2:$J$98, SMALL(IF('졸업인증 꿈설계상담 안내'!$M$2:$M$98= MID(CELL("filename",B9),FIND("]",CELL("filename",B9))+1,255), ROW('졸업인증 꿈설계상담 안내'!$J$2:$J$98)-ROW('졸업인증 꿈설계상담 안내'!$J$2)+1), ROW(A4))),"")} -> 1 | C9: {=IFERROR(INDEX('졸업인증 꿈설계상담 안내'!$K$2:$K$98, SMALL(IF('졸업인증 꿈설계상담 안내'!$M$2:$M$98= MID(CELL("filename",B9),FIND("]",CELL("filename",B9))+1,255), ROW('졸업인증 꿈설계상담 안내'!$K$2:$K$98)-ROW('졸업인증 꿈설계상담 안내'!$K$2)+1), ROW(A4))),"")} -> 26 | D9: {=IFERROR(INDEX('졸업인증 꿈설계상담 안내'!$L$2:$L$98, SMALL(IF('졸업인증 꿈설계상담 안내'!$M$2:$M$98= MID(CELL("filename",B9),FIND("]",CELL("filename",B9))+1,255), ROW('졸업인증 꿈설계상담 안내'!$L$2:$L$98)-ROW('졸업인증 꿈설계상담 안내'!$L$2)+1), ROW(A4))),"")} -> 오세윤
B10: {=IFERROR(INDEX('졸업인증 꿈설계상담 안내'!$J$2:$J$98, SMALL(IF('졸업인증 꿈설계상담 안내'!$M$2:$M$98= MID(CELL("filename",B10),FIND("]",CELL("filename",B10))+1,255), ROW('졸업인증 꿈설계상담 안내'!$J$2:$J$98)-ROW('졸업인증 꿈설계상담 안내'!$J$2)+1), ROW(A5))),"")} -> 2 | C10: {=IFERROR(INDEX('졸업인증 꿈설계상담 안내'!$K$2:$K$98, SMALL(IF('졸업인증 꿈설계상담 안내'!$M$2:$M$98= MID(CELL("filename",B10),FIND("]",CELL("filename",B10))+1,255), ROW('졸업인증 꿈설계상담 안내'!$K$2:$K$98)-ROW('졸업인증 꿈설계상담 안내'!$K$2)+1), ROW(A5))),"")} -> 25 | D10: {=IFERROR(INDEX('졸업인증 꿈설계상담 안내'!$L$2:$L$98, SMALL(IF('졸업인증 꿈설계상담 안내'!$M$2:$M$98= MID(CELL("filename",B10),FIND("]",CELL("filename",B10))+1,255), ROW('졸업인증 꿈설계상담 안내'!$L$2:$L$98)-ROW('졸업인증 꿈설계상담 안내'!$L$2)+1), ROW(A5))),"")} -> 박혜민
B11: {=IFERROR(INDEX('졸업인증 꿈설계상담 안내'!$J$2:$J$98, SMALL(IF('졸업인증 꿈설계상담 안내'!$M$2:$M$98= MID(CELL("filename",B11),FIND("]",CELL("filename",B11))+1,255), ROW('졸업인증 꿈설계상담 안내'!$J$2:$J$98)-ROW('졸업인증 꿈설계상담 안내'!$J$2)+1), ROW(A6))),"")} -> 2 | C11: {=IFERROR(INDEX('졸업인증 꿈설계상담 안내'!$K$2:$K$98, SMALL(IF('졸업인증 꿈설계상담 안내'!$M$2:$M$98= MID(CELL("filename",B11),FIND("]",CELL("filename",B11))+1,255), ROW('졸업인증 꿈설계상담 안내'!$K$2:$K$98)-ROW('졸업인증 꿈설계상담 안내'!$K$2)+1), ROW(A6))),"")} -> 25 | D11: {=IFERROR(INDEX('졸업인증 꿈설계상담 안내'!$L$2:$L$98, SMALL(IF('졸업인증 꿈설계상담 안내'!$M$2:$M$98= MID(CELL("filename",B11),FIND("]",CELL("filename",B11))+1,255), ROW('졸업인증 꿈설계상담 안내'!$L$2:$L$98)-ROW('졸업인증 꿈설계상담 안내'!$L$2)+1), ROW(A6))),"")} -> 이윤지
B12: {=IFERROR(INDEX('졸업인증 꿈설계상담 안내'!$J$2:$J$98, SMALL(IF('졸업인증 꿈설계상담 안내'!$M$2:$M$98= MID(CELL("filename",B12),FIND("]",CELL("filename",B12))+1,255), ROW('졸업인증 꿈설계상담 안내'!$J$2:$J$98)-ROW('졸업인증 꿈설계상담 안내'!$J$2)+1), ROW(A7))),"")} | C12: {=IFERROR(INDEX('졸업인증 꿈설계상담 안내'!$K$2:$K$98, SMALL(IF('졸업인증 꿈설계상담 안내'!$M$2:$M$98= MID(CELL("filename",B12),FIND("]",CELL("filename",B12))+1,255), ROW('졸업인증 꿈설계상담 안내'!$K$2:$K$98)-ROW('졸업인증 꿈설계상담 안내'!$K$2)+1), ROW(A7))),"")} | D12: {=IFERROR(INDEX('졸업인증 꿈설계상담 안내'!$L$2:$L$98, SMALL(IF('졸업인증 꿈설계상담 안내'!$M$2:$M$98= MID(CELL("filename",B12),FIND("]",CELL("filename",B12))+1,255), ROW('졸업인증 꿈설계상담 안내'!$L$2:$L$98)-ROW('졸업인증 꿈설계상담 안내'!$L$2)+1), ROW(A7))),"")}
B13: {=IFERROR(INDEX('졸업인증 꿈설계상담 안내'!$J$2:$J$98, SMALL(IF('졸업인증 꿈설계상담 안내'!$M$2:$M$98= MID(CELL("filename",B13),FIND("]",CELL("filename",B13))+1,255), ROW('졸업인증 꿈설계상담 안내'!$J$2:$J$98)-ROW('졸업인증 꿈설계상담 안내'!$J$2)+1), ROW(A8))),"")} | C13: {=IFERROR(INDEX('졸업인증 꿈설계상담 안내'!$K$2:$K$98, SMALL(IF('졸업인증 꿈설계상담 안내'!$M$2:$M$98= MID(CELL("filename",B13),FIND("]",CELL("filename",B13))+1,255), ROW('졸업인증 꿈설계상담 안내'!$K$2:$K$98)-ROW('졸업인증 꿈설계상담 안내'!$K$2)+1), ROW(A8))),"")} | D13: {=IFERROR(INDEX('졸업인증 꿈설계상담 안내'!$L$2:$L$98, SMALL(IF('졸업인증 꿈설계상담 안내'!$M$2:$M$98= MID(CELL("filename",B13),FIND("]",CELL("filename",B13))+1,255), ROW('졸업인증 꿈설계상담 안내'!$L$2:$L$98)-ROW('졸업인증 꿈설계상담 안내'!$L$2)+1), ROW(A8))),"")}
B14: 인원 | D14: =COUNT(B6:B13)&"명" -> 6명

Sheet 신동엽
B2: 화학전공 비교과과정 꿈-설계상담
D3: 지도교수 | E3: 신동엽 교수님
D4: 연구실 | E4: 자1-415호
B5: 학년 | C5: 학번 | D5: 성명 | E5: 비고
B6: {=IFERROR(INDEX('졸업인증 꿈설계상담 안내'!$J$2:$J$98, SMALL(IF('졸업인증 꿈설계상담 안내'!$M$2:$M$98= MID(CELL("filename",B6),FIND("]",CELL("filename",B6))+1,255), ROW('졸업인증 꿈설계상담 안내'!$J$2:$J$98)-ROW('졸업인증 꿈설계상담 안내'!$J$2)+1), ROW(A1))),"")} -> 1 | C6: {=IFERROR(INDEX('졸업인증 꿈설계상담 안내'!$K$2:$K$98, SMALL(IF('졸업인증 꿈설계상담 안내'!$M$2:$M$98= MID(CELL("filename",B6),FIND("]",CELL("filename",B6))+1,255), ROW('졸업인증 꿈설계상담 안내'!$K$2:$K$98)-ROW('졸업인증 꿈설계상담 안내'!$K$2)+1), ROW(A1))),"")} -> 26 | D6: {=IFERROR(INDEX('졸업인증 꿈설계상담 안내'!$L$2:$L$98, SMALL(IF('졸업인증 꿈설계상담 안내'!$M$2:$M$98= MID(CELL("filename",B6),FIND("]",CELL("filename",B6))+1,255), ROW('졸업인증 꿈설계상담 안내'!$L$2:$L$98)-ROW('졸업인증 꿈설계상담 안내'!$L$2)+1), ROW(A1))),"")} -> 이준영
B7: {=IFERROR(INDEX('졸업인증 꿈설계상담 안내'!$J$2:$J$98, SMALL(IF('졸업인증 꿈설계상담 안내'!$M$2:$M$98= MID(CELL("filename",B7),FIND("]",CELL("filename",B7))+1,255), ROW('졸업인증 꿈설계상담 안내'!$J$2:$J$98)-ROW('졸업인증 꿈설계상담 안내'!$J$2)+1), ROW(A2))),"")} -> 1 | C7: {=IFERROR(INDEX('졸업인증 꿈설계상담 안내'!$K$2:$K$98, SMALL(IF('졸업인증 꿈설계상담 안내'!$M$2:$M$98= MID(CELL("filename",B7),FIND("]",CELL("filename",B7))+1,255), ROW('졸업인증 꿈설계상담 안내'!$K$2:$K$98)-ROW('졸업인증 꿈설계상담 안내'!$K$2)+1), ROW(A2))),"")} -> 25 | D7: {=IFERROR(INDEX('졸업인증 꿈설계상담 안내'!$L$2:$L$98, SMALL(IF('졸업인증 꿈설계상담 안내'!$M$2:$M$98= MID(CELL("filename",B7),FIND("]",CELL("filename",B7))+1,255), ROW('졸업인증 꿈설계상담 안내'!$L$2:$L$98)-ROW('졸업인증 꿈설계상담 안내'!$L$2)+1), ROW(A2))),"")} -> 이현진
B8: {=IFERROR(INDEX('졸업인증 꿈설계상담 안내'!$J$2:$J$98, SMALL(IF('졸업인증 꿈설계상담 안내'!$M$2:$M$98= MID(CELL("filename",B8),FIND("]",CELL("filename",B8))+1,255), ROW('졸업인증 꿈설계상담 안내'!$J$2:$J$98)-ROW('졸업인증 꿈설계상담 안내'!$J$2)+1), ROW(A3))),"")} -> 1 | C8: {=IFERROR(INDEX('졸업인증 꿈설계상담 안내'!$K$2:$K$98, SMALL(IF('졸업인증 꿈설계상담 안내'!$M$2:$M$98= MID(CELL("filename",B8),FIND("]",CELL("filename",B8))+1,255), ROW('졸업인증 꿈설계상담 안내'!$K$2:$K$98)-ROW('졸업인증 꿈설계상담 안내'!$K$2)+1), ROW(A3))),"")} -> 26 | D8: {=IFERROR(INDEX('졸업인증 꿈설계상담 안내'!$L$2:$L$98, SMALL(IF('졸업인증 꿈설계상담 안내'!$M$2:$M$98= MID(CELL("filename",B8),FIND("]",CELL("filename",B8))+1,255), ROW('졸업인증 꿈설계상담 안내'!$L$2:$L$98)-ROW('졸업인증 꿈설계상담 안내'!$L$2)+1), ROW(A3))),"")} -> 최혜연
B9: {=IFERROR(INDEX('졸업인증 꿈설계상담 안내'!$J$2:$J$98, SMALL(IF('졸업인증 꿈설계상담 안내'!$M$2:$M$98= MID(CELL("filename",B9),FIND("]",CELL("filename",B9))+1,255), ROW('졸업인증 꿈설계상담 안내'!$J$2:$J$98)-ROW('졸업인증 꿈설계상담 안내'!$J$2)+1), ROW(A4))),"")} -> 1 | C9: {=IFERROR(INDEX('졸업인증 꿈설계상담 안내'!$K$2:$K$98, SMALL(IF('졸업인증 꿈설계상담 안내'!$M$2:$M$98= MID(CELL("filename",B9),FIND("]",CELL("filename",B9))+1,255), ROW('졸업인증 꿈설계상담 안내'!$K$2:$K$98)-ROW('졸업인증 꿈설계상담 안내'!$K$2)+1), ROW(A4))),"")} -> 26 | D9: {=IFERROR(INDEX('졸업인증 꿈설계상담 안내'!$L$2:$L$98, SMALL(IF('졸업인증 꿈설계상담 안내'!$M$2:$M$98= MID(CELL("filename",B9),FIND("]",CELL("filename",B9))+1,255), ROW('졸업인증 꿈설계상담 안내'!$L$2:$L$98)-ROW('졸업인증 꿈설계상담 안내'!$L$2)+1), ROW(A4))),"")} -> 황하윤
B10: {=IFERROR(INDEX('졸업인증 꿈설계상담 안내'!$J$2:$J$98, SMALL(IF('졸업인증 꿈설계상담 안내'!$M$2:$M$98= MID(CELL("filename",B10),FIND("]",CELL("filename",B10))+1,255), ROW('졸업인증 꿈설계상담 안내'!$J$2:$J$98)-ROW('졸업인증 꿈설계상담 안내'!$J$2)+1), ROW(A5))),"")} -> 2 | C10: {=IFERROR(INDEX('졸업인증 꿈설계상담 안내'!$K$2:$K$98, SMALL(IF('졸업인증 꿈설계상담 안내'!$M$2:$M$98= MID(CELL("filename",B10),FIND("]",CELL("filename",B10))+1,255), ROW('졸업인증 꿈설계상담 안내'!$K$2:$K$98)-ROW('졸업인증 꿈설계상담 안내'!$K$2)+1), ROW(A5))),"")} -> 25 | D10: {=IFERROR(INDEX('졸업인증 꿈설계상담 안내'!$L$2:$L$98, SMALL(IF('졸업인증 꿈설계상담 안내'!$M$2:$M$98= MID(CELL("filename",B10),FIND("]",CELL("filename",B10))+1,255), ROW('졸업인증 꿈설계상담 안내'!$L$2:$L$98)-ROW('졸업인증 꿈설계상담 안내'!$L$2)+1), ROW(A5))),"")} -> 유상열
B11: {=IFERROR(INDEX('졸업인증 꿈설계상담 안내'!$J$2:$J$98, SMALL(IF('졸업인증 꿈설계상담 안내'!$M$2:$M$98= MID(CELL("filename",B11),FIND("]",CELL("filename",B11))+1,255), ROW('졸업인증 꿈설계상담 안내'!$J$2:$J$98)-ROW('졸업인증 꿈설계상담 안내'!$J$2)+1), ROW(A6))),"")} -> 2 | C11: {=IFERROR(INDEX('졸업인증 꿈설계상담 안내'!$K$2:$K$98, SMALL(IF('졸업인증 꿈설계상담 안내'!$M$2:$M$98= MID(CELL("filename",B11),FIND("]",CELL("filename",B11))+1,255), ROW('졸업인증 꿈설계상담 안내'!$K$2:$K$98)-ROW('졸업인증 꿈설계상담 안내'!$K$2)+1), ROW(A6))),"")} -> 25 | D11: {=IFERROR(INDEX('졸업인증 꿈설계상담 안내'!$L$2:$L$98, SMALL(IF('졸업인증 꿈설계상담 안내'!$M$2:$M$98= MID(CELL("filename",B11),FIND("]",CELL("filename",B11))+1,255), ROW('졸업인증 꿈설계상담 안내'!$L$2:$L$98)-ROW('졸업인증 꿈설계상담 안내'!$L$2)+1), ROW(A6))),"")} -> 최서영
B12: {=IFERROR(INDEX('졸업인증 꿈설계상담 안내'!$J$2:$J$98, SMALL(IF('졸업인증 꿈설계상담 안내'!$M$2:$M$98= MID(CELL("filename",B12),FIND("]",CELL("filename",B12))+1,255), ROW('졸업인증 꿈설계상담 안내'!$J$2:$J$98)-ROW('졸업인증 꿈설계상담 안내'!$J$2)+1), ROW(A7))),"")} | C12: {=IFERROR(INDEX('졸업인증 꿈설계상담 안내'!$K$2:$K$98, SMALL(IF('졸업인증 꿈설계상담 안내'!$M$2:$M$98= MID(CELL("filename",B12),FIND("]",CELL("filename",B12))+1,255), ROW('졸업인증 꿈설계상담 안내'!$K$2:$K$98)-ROW('졸업인증 꿈설계상담 안내'!$K$2)+1), ROW(A7))),"")} | D12: {=IFERROR(INDEX('졸업인증 꿈설계상담 안내'!$L$2:$L$98, SMALL(IF('졸업인증 꿈설계상담 안내'!$M$2:$M$98= MID(CELL("filename",B12),FIND("]",CELL("filename",B12))+1,255), ROW('졸업인증 꿈설계상담 안내'!$L$2:$L$98)-ROW('졸업인증 꿈설계상담 안내'!$L$2)+1), ROW(A7))),"")}
B13: {=IFERROR(INDEX('졸업인증 꿈설계상담 안내'!$J$2:$J$98, SMALL(IF('졸업인증 꿈설계상담 안내'!$M$2:$M$98= MID(CELL("filename",B13),FIND("]",CELL("filename",B13))+1,255), ROW('졸업인증 꿈설계상담 안내'!$J$2:$J$98)-ROW('졸업인증 꿈설계상담 안내'!$J$2)+1), ROW(A8))),"")} | C13: {=IFERROR(INDEX('졸업인증 꿈설계상담 안내'!$K$2:$K$98, SMALL(IF('졸업인증 꿈설계상담 안내'!$M$2:$M$98= MID(CELL("filename",B13),FIND("]",CELL("filename",B13))+1,255), ROW('졸업인증 꿈설계상담 안내'!$K$2:$K$98)-ROW('졸업인증 꿈설계상담 안내'!$K$2)+1), ROW(A8))),"")} | D13: {=IFERROR(INDEX('졸업인증 꿈설계상담 안내'!$L$2:$L$98, SMALL(IF('졸업인증 꿈설계상담 안내'!$M$2:$M$98= MID(CELL("filename",B13),FIND("]",CELL("filename",B13))+1,255), ROW('졸업인증 꿈설계상담 안내'!$L$2:$L$98)-ROW('졸업인증 꿈설계상담 안내'!$L$2)+1), ROW(A8))),"")}
B14: 인원 | D14: =COUNT(B6:B13)&"명" -> 6명

Sheet 안덕근
B2: 화학전공 비교과과정 꿈-설계상담
D3: 지도교수 | E3: 안덕근 교수님
D4: 연구실 | E4: 자4-413-1호
B5: 학년 | C5: 학번 | D5: 성명 | E5: 비고
B6: {=IFERROR(INDEX('졸업인증 꿈설계상담 안내'!$J$2:$J$98, SMALL(IF('졸업인증 꿈설계상담 안내'!$M$2:$M$98= MID(CELL("filename",B6),FIND("]",CELL("filename",B6))+1,255), ROW('졸업인증 꿈설계상담 안내'!$J$2:$J$98)-ROW('졸업인증 꿈설계상담 안내'!$J$2)+1), ROW(A1))),"")} -> 1 | C6: {=IFERROR(INDEX('졸업인증 꿈설계상담 안내'!$K$2:$K$98, SMALL(IF('졸업인증 꿈설계상담 안내'!$M$2:$M$98= MID(CELL("filename",B6),FIND("]",CELL("filename",B6))+1,255), ROW('졸업인증 꿈설계상담 안내'!$K$2:$K$98)-ROW('졸업인증 꿈설계상담 안내'!$K$2)+1), ROW(A1))),"")} -> 26 | D6: {=IFERROR(INDEX('졸업인증 꿈설계상담 안내'!$L$2:$L$98, SMALL(IF('졸업인증 꿈설계상담 안내'!$M$2:$M$98= MID(CELL("filename",B6),FIND("]",CELL("filename",B6))+1,255), ROW('졸업인증 꿈설계상담 안내'!$L$2:$L$98)-ROW('졸업인증 꿈설계상담 안내'!$L$2)+1), ROW(A1))),"")} -> 구희선
B7: {=IFERROR(INDEX('졸업인증 꿈설계상담 안내'!$J$2:$J$98, SMALL(IF('졸업인증 꿈설계상담 안내'!$M$2:$M$98= MID(CELL("filename",B7),FIND("]",CELL("filename",B7))+1,255), ROW('졸업인증 꿈설계상담 안내'!$J$2:$J$98)-ROW('졸업인증 꿈설계상담 안내'!$J$2)+1), ROW(A2))),"")} -> 1 | C7: {=IFERROR(INDEX('졸업인증 꿈설계상담 안내'!$K$2:$K$98, SMALL(IF('졸업인증 꿈설계상담 안내'!$M$2:$M$98= MID(CELL("filename",B7),FIND("]",CELL("filename",B7))+1,255), ROW('졸업인증 꿈설계상담 안내'!$K$2:$K$98)-ROW('졸업인증 꿈설계상담 안내'!$K$2)+1), ROW(A2))),"")} -> 26 | D7: {=IFERROR(INDEX('졸업인증 꿈설계상담 안내'!$L$2:$L$98, SMALL(IF('졸업인증 꿈설계상담 안내'!$M$2:$M$98= MID(CELL("filename",B7),FIND("]",CELL("filename",B7))+1,255), ROW('졸업인증 꿈설계상담 안내'!$L$2:$L$98)-ROW('졸업인증 꿈설계상담 안내'!$L$2)+1), ROW(A2))),"")} -> 김도영
B8: {=IFERROR(INDEX('졸업인증 꿈설계상담 안내'!$J$2:$J$98, SMALL(IF('졸업인증 꿈설계상담 안내'!$M$2:$M$98= MID(CELL("filename",B8),FIND("]",CELL("filename",B8))+1,255), ROW('졸업인증 꿈설계상담 안내'!$J$2:$J$98)-ROW('졸업인증 꿈설계상담 안내'!$J$2)+1), ROW(A3))),"")} -> 2 | C8: {=IFERROR(INDEX('졸업인증 꿈설계상담 안내'!$K$2:$K$98, SMALL(IF('졸업인증 꿈설계상담 안내'!$M$2:$M$98= MID(CELL("filename",B8),FIND("]",CELL("filename",B8))+1,255), ROW('졸업인증 꿈설계상담 안내'!$K$2:$K$98)-ROW('졸업인증 꿈설계상담 안내'!$K$2)+1), ROW(A3))),"")} -> 25 | D8: {=IFERROR(INDEX('졸업인증 꿈설계상담 안내'!$L$2:$L$98, SMALL(IF('졸업인증 꿈설계상담 안내'!$M$2:$M$98= MID(CELL("filename",B8),FIND("]",CELL("filename",B8))+1,255), ROW('졸업인증 꿈설계상담 안내'!$L$2:$L$98)-ROW('졸업인증 꿈설계상담 안내'!$L$2)+1), ROW(A3))),"")} -> 박근아
B9: {=IFERROR(INDEX('졸업인증 꿈설계상담 안내'!$J$2:$J$98, SMALL(IF('졸업인증 꿈설계상담 안내'!$M$2:$M$98= MID(CELL("filename",B9),FIND("]",CELL("filename",B9))+1,255), ROW('졸업인증 꿈설계상담 안내'!$J$2:$J$98)-ROW('졸업인증 꿈설계상담 안내'!$J$2)+1), ROW(A4))),"")} -> 2 | C9: {=IFERROR(INDEX('졸업인증 꿈설계상담 안내'!$K$2:$K$98, SMALL(IF('졸업인증 꿈설계상담 안내'!$M$2:$M$98= MID(CELL("filename",B9),FIND("]",CELL("filename",B9))+1,255), ROW('졸업인증 꿈설계상담 안내'!$K$2:$K$98)-ROW('졸업인증 꿈설계상담 안내'!$K$2)+1), ROW(A4))),"")} -> 23 | D9: {=IFERROR(INDEX('졸업인증 꿈설계상담 안내'!$L$2:$L$98, SMALL(IF('졸업인증 꿈설계상담 안내'!$M$2:$M$98= MID(CELL("filename",B9),FIND("]",CELL("filename",B9))+1,255), ROW('졸업인증 꿈설계상담 안내'!$L$2:$L$98)-ROW('졸업인증 꿈설계상담 안내'!$L$2)+1), ROW(A4))),"")} -> 송현태
B10: {=IFERROR(INDEX('졸업인증 꿈설계상담 안내'!$J$2:$J$98, SMALL(IF('졸업인증 꿈설계상담 안내'!$M$2:$M$98= MID(CELL("filename",B10),FIND("]",CELL("filename",B10))+1,255), ROW('졸업인증 꿈설계상담 안내'!$J$2:$J$98)-ROW('졸업인증 꿈설계상담 안내'!$J$2)+1), ROW(A5))),"")} -> 2 | C10: {=IFERROR(INDEX('졸업인증 꿈설계상담 안내'!$K$2:$K$98, SMALL(IF('졸업인증 꿈설계상담 안내'!$M$2:$M$98= MID(CELL("filename",B10),FIND("]",CELL("filename",B10))+1,255), ROW('졸업인증 꿈설계상담 안내'!$K$2:$K$98)-ROW('졸업인증 꿈설계상담 안내'!$K$2)+1), ROW(A5))),"")} -> 24 | D10: {=IFERROR(INDEX('졸업인증 꿈설계상담 안내'!$L$2:$L$98, SMALL(IF('졸업인증 꿈설계상담 안내'!$M$2:$M$98= MID(CELL("filename",B10),FIND("]",CELL("filename",B10))+1,255), ROW('졸업인증 꿈설계상담 안내'!$L$2:$L$98)-ROW('졸업인증 꿈설계상담 안내'!$L$2)+1), ROW(A5))),"")} -> 임수현
B11: {=IFERROR(INDEX('졸업인증 꿈설계상담 안내'!$J$2:$J$98, SMALL(IF('졸업인증 꿈설계상담 안내'!$M$2:$M$98= MID(CELL("filename",B11),FIND("]",CELL("filename",B11))+1,255), ROW('졸업인증 꿈설계상담 안내'!$J$2:$J$98)-ROW('졸업인증 꿈설계상담 안내'!$J$2)+1), ROW(A6))),"")} | C11: {=IFERROR(INDEX('졸업인증 꿈설계상담 안내'!$K$2:$K$98, SMALL(IF('졸업인증 꿈설계상담 안내'!$M$2:$M$98= MID(CELL("filename",B11),FIND("]",CELL("filename",B11))+1,255), ROW('졸업인증 꿈설계상담 안내'!$K$2:$K$98)-ROW('졸업인증 꿈설계상담 안내'!$K$2)+1), ROW(A6))),"")} | D11: {=IFERROR(INDEX('졸업인증 꿈설계상담 안내'!$L$2:$L$98, SMALL(IF('졸업인증 꿈설계상담 안내'!$M$2:$M$98= MID(CELL("filename",B11),FIND("]",CELL("filename",B11))+1,255), ROW('졸업인증 꿈설계상담 안내'!$L$2:$L$98)-ROW('졸업인증 꿈설계상담 안내'!$L$2)+1), ROW(A6))),"")}
B12: {=IFERROR(INDEX('졸업인증 꿈설계상담 안내'!$J$2:$J$98, SMALL(IF('졸업인증 꿈설계상담 안내'!$M$2:$M$98= MID(CELL("filename",B12),FIND("]",CELL("filename",B12))+1,255), ROW('졸업인증 꿈설계상담 안내'!$J$2:$J$98)-ROW('졸업인증 꿈설계상담 안내'!$J$2)+1), ROW(A7))),"")} | C12: {=IFERROR(INDEX('졸업인증 꿈설계상담 안내'!$K$2:$K$98, SMALL(IF('졸업인증 꿈설계상담 안내'!$M$2:$M$98= MID(CELL("filename",B12),FIND("]",CELL("filename",B12))+1,255), ROW('졸업인증 꿈설계상담 안내'!$K$2:$K$98)-ROW('졸업인증 꿈설계상담 안내'!$K$2)+1), ROW(A7))),"")} | D12: {=IFERROR(INDEX('졸업인증 꿈설계상담 안내'!$L$2:$L$98, SMALL(IF('졸업인증 꿈설계상담 안내'!$M$2:$M$98= MID(CELL("filename",B12),FIND("]",CELL("filename",B12))+1,255), ROW('졸업인증 꿈설계상담 안내'!$L$2:$L$98)-ROW('졸업인증 꿈설계상담 안내'!$L$2)+1), ROW(A7))),"")}
B13: {=IFERROR(INDEX('졸업인증 꿈설계상담 안내'!$J$2:$J$98, SMALL(IF('졸업인증 꿈설계상담 안내'!$M$2:$M$98= MID(CELL("filename",B13),FIND("]",CELL("filename",B13))+1,255), ROW('졸업인증 꿈설계상담 안내'!$J$2:$J$98)-ROW('졸업인증 꿈설계상담 안내'!$J$2)+1), ROW(A8))),"")} | C13: {=IFERROR(INDEX('졸업인증 꿈설계상담 안내'!$K$2:$K$98, SMALL(IF('졸업인증 꿈설계상담 안내'!$M$2:$M$98= MID(CELL("filename",B13),FIND("]",CELL("filename",B13))+1,255), ROW('졸업인증 꿈설계상담 안내'!$K$2:$K$98)-ROW('졸업인증 꿈설계상담 안내'!$K$2)+1), ROW(A8))),"")} | D13: {=IFERROR(INDEX('졸업인증 꿈설계상담 안내'!$L$2:$L$98, SMALL(IF('졸업인증 꿈설계상담 안내'!$M$2:$M$98= MID(CELL("filename",B13),FIND("]",CELL("filename",B13))+1,255), ROW('졸업인증 꿈설계상담 안내'!$L$2:$L$98)-ROW('졸업인증 꿈설계상담 안내'!$L$2)+1), ROW(A8))),"")}
B14: 인원 | D14: =COUNT(B6:B13)&"명" -> 5명

Sheet 이강문
B2: 화학전공 비교과과정 꿈-설계상담
D3: 지도교수 | E3: 이강문 교수님
D4: 연구실 | E4: 자1-409호
B5: 학년 | C5: 학번 | D5: 성명 | E5: 비고
B6: {=IFERROR(INDEX('졸업인증 꿈설계상담 안내'!$J$2:$J$98, SMALL(IF('졸업인증 꿈설계상담 안내'!$M$2:$M$98= MID(CELL("filename",B6),FIND("]",CELL("filename",B6))+1,255), ROW('졸업인증 꿈설계상담 안내'!$J$2:$J$98)-ROW('졸업인증 꿈설계상담 안내'!$J$2)+1), ROW(A1))),"")} -> 1 | C6: {=IFERROR(INDEX('졸업인증 꿈설계상담 안내'!$K$2:$K$98, SMALL(IF('졸업인증 꿈설계상담 안내'!$M$2:$M$98= MID(CELL("filename",B6),FIND("]",CELL("filename",B6))+1,255), ROW('졸업인증 꿈설계상담 안내'!$K$2:$K$98)-ROW('졸업인증 꿈설계상담 안내'!$K$2)+1), ROW(A1))),"")} -> 26 | D6: {=IFERROR(INDEX('졸업인증 꿈설계상담 안내'!$L$2:$L$98, SMALL(IF('졸업인증 꿈설계상담 안내'!$M$2:$M$98= MID(CELL("filename",B6),FIND("]",CELL("filename",B6))+1,255), ROW('졸업인증 꿈설계상담 안내'!$L$2:$L$98)-ROW('졸업인증 꿈설계상담 안내'!$L$2)+1), ROW(A1))),"")} -> 박소은
B7: {=IFERROR(INDEX('졸업인증 꿈설계상담 안내'!$J$2:$J$98, SMALL(IF('졸업인증 꿈설계상담 안내'!$M$2:$M$98= MID(CELL("filename",B7),FIND("]",CELL("filename",B7))+1,255), ROW('졸업인증 꿈설계상담 안내'!$J$2:$J$98)-ROW('졸업인증 꿈설계상담 안내'!$J$2)+1), ROW(A2))),"")} -> 1 | C7: {=IFERROR(INDEX('졸업인증 꿈설계상담 안내'!$K$2:$K$98, SMALL(IF('졸업인증 꿈설계상담 안내'!$M$2:$M$98= MID(CELL("filename",B7),FIND("]",CELL("filename",B7))+1,255), ROW('졸업인증 꿈설계상담 안내'!$K$2:$K$98)-ROW('졸업인증 꿈설계상담 안내'!$K$2)+1), ROW(A2))),"")} -> 26 | D7: {=IFERROR(INDEX('졸업인증 꿈설계상담 안내'!$L$2:$L$98, SMALL(IF('졸업인증 꿈설계상담 안내'!$M$2:$M$98= MID(CELL("filename",B7),FIND("]",CELL("filename",B7))+1,255), ROW('졸업인증 꿈설계상담 안내'!$L$2:$L$98)-ROW('졸업인증 꿈설계상담 안내'!$L$2)+1), ROW(A2))),"")} -> 박현우
B8: {=IFERROR(INDEX('졸업인증 꿈설계상담 안내'!$J$2:$J$98, SMALL(IF('졸업인증 꿈설계상담 안내'!$M$2:$M$98= MID(CELL("filename",B8),FIND("]",CELL("filename",B8))+1,255), ROW('졸업인증 꿈설계상담 안내'!$J$2:$J$98)-ROW('졸업인증 꿈설계상담 안내'!$J$2)+1), ROW(A3))),"")} -> 1 | C8: {=IFERROR(INDEX('졸업인증 꿈설계상담 안내'!$K$2:$K$98, SMALL(IF('졸업인증 꿈설계상담 안내'!$M$2:$M$98= MID(CELL("filename",B8),FIND("]",CELL("filename",B8))+1,255), ROW('졸업인증 꿈설계상담 안내'!$K$2:$K$98)-ROW('졸업인증 꿈설계상담 안내'!$K$2)+1), ROW(A3))),"")} -> 26 | D8: {=IFERROR(INDEX('졸업인증 꿈설계상담 안내'!$L$2:$L$98, SMALL(IF('졸업인증 꿈설계상담 안내'!$M$2:$M$98= MID(CELL("filename",B8),FIND("]",CELL("filename",B8))+1,255), ROW('졸업인증 꿈설계상담 안내'!$L$2:$L$98)-ROW('졸업인증 꿈설계상담 안내'!$L$2)+1), ROW(A3))),"")} -> 변연우
B9: {=IFERROR(INDEX('졸업인증 꿈설계상담 안내'!$J$2:$J$98, SMALL(IF('졸업인증 꿈설계상담 안내'!$M$2:$M$98= MID(CELL("filename",B9),FIND("]",CELL("filename",B9))+1,255), ROW('졸업인증 꿈설계상담 안내'!$J$2:$J$98)-ROW('졸업인증 꿈설계상담 안내'!$J$2)+1), ROW(A4))),"")} -> 2 | C9: {=IFERROR(INDEX('졸업인증 꿈설계상담 안내'!$K$2:$K$98, SMALL(IF('졸업인증 꿈설계상담 안내'!$M$2:$M$98= MID(CELL("filename",B9),FIND("]",CELL("filename",B9))+1,255), ROW('졸업인증 꿈설계상담 안내'!$K$2:$K$98)-ROW('졸업인증 꿈설계상담 안내'!$K$2)+1), ROW(A4))),"")} -> 25 | D9: {=IFERROR(INDEX('졸업인증 꿈설계상담 안내'!$L$2:$L$98, SMALL(IF('졸업인증 꿈설계상담 안내'!$M$2:$M$98= MID(CELL("filename",B9),FIND("]",CELL("filename",B9))+1,255), ROW('졸업인증 꿈설계상담 안내'!$L$2:$L$98)-ROW('졸업인증 꿈설계상담 안내'!$L$2)+1), ROW(A4))),"")} -> 이수천
B10: {=IFERROR(INDEX('졸업인증 꿈설계상담 안내'!$J$2:$J$98, SMALL(IF('졸업인증 꿈설계상담 안내'!$M$2:$M$98= MID(CELL("filename",B10),FIND("]",CELL("filename",B10))+1,255), ROW('졸업인증 꿈설계상담 안내'!$J$2:$J$98)-ROW('졸업인증 꿈설계상담 안내'!$J$2)+1), ROW(A5))),"")} -> 2 | C10: {=IFERROR(INDEX('졸업인증 꿈설계상담 안내'!$K$2:$K$98, SMALL(IF('졸업인증 꿈설계상담 안내'!$M$2:$M$98= MID(CELL("filename",B10),FIND("]",CELL("filename",B10))+1,255), ROW('졸업인증 꿈설계상담 안내'!$K$2:$K$98)-ROW('졸업인증 꿈설계상담 안내'!$K$2)+1), ROW(A5))),"")} -> 25 | D10: {=IFERROR(INDEX('졸업인증 꿈설계상담 안내'!$L$2:$L$98, SMALL(IF('졸업인증 꿈설계상담 안내'!$M$2:$M$98= MID(CELL("filename",B10),FIND("]",CELL("filename",B10))+1,255), ROW('졸업인증 꿈설계상담 안내'!$L$2:$L$98)-ROW('졸업인증 꿈설계상담 안내'!$L$2)+1), ROW(A5))),"")} -> 장이경
B11: {=IFERROR(INDEX('졸업인증 꿈설계상담 안내'!$J$2:$J$98, SMALL(IF('졸업인증 꿈설계상담 안내'!$M$2:$M$98= MID(CELL("filename",B11),FIND("]",CELL("filename",B11))+1,255), ROW('졸업인증 꿈설계상담 안내'!$J$2:$J$98)-ROW('졸업인증 꿈설계상담 안내'!$J$2)+1), ROW(A6))),"")} -> 2 | C11: {=IFERROR(INDEX('졸업인증 꿈설계상담 안내'!$K$2:$K$98, SMALL(IF('졸업인증 꿈설계상담 안내'!$M$2:$M$98= MID(CELL("filename",B11),FIND("]",CELL("filename",B11))+1,255), ROW('졸업인증 꿈설계상담 안내'!$K$2:$K$98)-ROW('졸업인증 꿈설계상담 안내'!$K$2)+1), ROW(A6))),"")} -> 25 | D11: {=IFERROR(INDEX('졸업인증 꿈설계상담 안내'!$L$2:$L$98, SMALL(IF('졸업인증 꿈설계상담 안내'!$M$2:$M$98= MID(CELL("filename",B11),FIND("]",CELL("filename",B11))+1,255), ROW('졸업인증 꿈설계상담 안내'!$L$2:$L$98)-ROW('졸업인증 꿈설계상담 안내'!$L$2)+1), ROW(A6))),"")} -> 차현서
B12: {=IFERROR(INDEX('졸업인증 꿈설계상담 안내'!$J$2:$J$98, SMALL(IF('졸업인증 꿈설계상담 안내'!$M$2:$M$98= MID(CELL("filename",B12),FIND("]",CELL("filename",B12))+1,255), ROW('졸업인증 꿈설계상담 안내'!$J$2:$J$98)-ROW('졸업인증 꿈설계상담 안내'!$J$2)+1), ROW(A7))),"")} | C12: {=IFERROR(INDEX('졸업인증 꿈설계상담 안내'!$K$2:$K$98, SMALL(IF('졸업인증 꿈설계상담 안내'!$M$2:$M$98= MID(CELL("filename",B12),FIND("]",CELL("filename",B12))+1,255), ROW('졸업인증 꿈설계상담 안내'!$K$2:$K$98)-ROW('졸업인증 꿈설계상담 안내'!$K$2)+1), ROW(A7))),"")} | D12: {=IFERROR(INDEX('졸업인증 꿈설계상담 안내'!$L$2:$L$98, SMALL(IF('졸업인증 꿈설계상담 안내'!$M$2:$M$98= MID(CELL("filename",B12),FIND("]",CELL("filename",B12))+1,255), ROW('졸업인증 꿈설계상담 안내'!$L$2:$L$98)-ROW('졸업인증 꿈설계상담 안내'!$L$2)+1), ROW(A7))),"")}
B13: {=IFERROR(INDEX('졸업인증 꿈설계상담 안내'!$J$2:$J$98, SMALL(IF('졸업인증 꿈설계상담 안내'!$M$2:$M$98= MID(CELL("filename",B13),FIND("]",CELL("filename",B13))+1,255), ROW('졸업인증 꿈설계상담 안내'!$J$2:$J$98)-ROW('졸업인증 꿈설계상담 안내'!$J$2)+1), ROW(A8))),"")} | C13: {=IFERROR(INDEX('졸업인증 꿈설계상담 안내'!$K$2:$K$98, SMALL(IF('졸업인증 꿈설계상담 안내'!$M$2:$M$98= MID(CELL("filename",B13),FIND("]",CELL("filename",B13))+1,255), ROW('졸업인증 꿈설계상담 안내'!$K$2:$K$98)-ROW('졸업인증 꿈설계상담 안내'!$K$2)+1), ROW(A8))),"")} | D13: {=IFERROR(INDEX('졸업인증 꿈설계상담 안내'!$L$2:$L$98, SMALL(IF('졸업인증 꿈설계상담 안내'!$M$2:$M$98= MID(CELL("filename",B13),FIND("]",CELL("filename",B13))+1,255), ROW('졸업인증 꿈설계상담 안내'!$L$2:$L$98)-ROW('졸업인증 꿈설계상담 안내'!$L$2)+1), ROW(A8))),"")}
B14: 인원 | D14: =COUNT(B6:B13)&"명" -> 6명

Sheet 이원철
B2: 화학전공 비교과과정 꿈-설계상담
D3: 지도교수 | E3: 이원철 교수님
D4: 연구실 | E4: 자1-416호
B5: 학년 | C5: 학번 | D5: 성명 | E5: 비고
B6: {=IFERROR(INDEX('졸업인증 꿈설계상담 안내'!$J$2:$J$98, SMALL(IF('졸업인증 꿈설계상담 안내'!$M$2:$M$98= MID(CELL("filename",B6),FIND("]",CELL("filename",B6))+1,255), ROW('졸업인증 꿈설계상담 안내'!$J$2:$J$98)-ROW('졸업인증 꿈설계상담 안내'!$J$2)+1), ROW(A1))),"")} -> 1 | C6: {=IFERROR(INDEX('졸업인증 꿈설계상담 안내'!$K$2:$K$98, SMALL(IF('졸업인증 꿈설계상담 안내'!$M$2:$M$98= MID(CELL("filename",B6),FIND("]",CELL("filename",B6))+1,255), ROW('졸업인증 꿈설계상담 안내'!$K$2:$K$98)-ROW('졸업인증 꿈설계상담 안내'!$K$2)+1), ROW(A1))),"")} -> 26 | D6: {=IFERROR(INDEX('졸업인증 꿈설계상담 안내'!$L$2:$L$98, SMALL(IF('졸업인증 꿈설계상담 안내'!$M$2:$M$98= MID(CELL("filename",B6),FIND("]",CELL("filename",B6))+1,255), ROW('졸업인증 꿈설계상담 안내'!$L$2:$L$98)-ROW('졸업인증 꿈설계상담 안내'!$L$2)+1), ROW(A1))),"")} -> 오상현
B7: {=IFERROR(INDEX('졸업인증 꿈설계상담 안내'!$J$2:$J$98, SMALL(IF('졸업인증 꿈설계상담 안내'!$M$2:$M$98= MID(CELL("filename",B7),FIND("]",CELL("filename",B7))+1,255), ROW('졸업인증 꿈설계상담 안내'!$J$2:$J$98)-ROW('졸업인증 꿈설계상담 안내'!$J$2)+1), ROW(A2))),"")} -> 1 | C7: {=IFERROR(INDEX('졸업인증 꿈설계상담 안내'!$K$2:$K$98, SMALL(IF('졸업인증 꿈설계상담 안내'!$M$2:$M$98= MID(CELL("filename",B7),FIND("]",CELL("filename",B7))+1,255), ROW('졸업인증 꿈설계상담 안내'!$K$2:$K$98)-ROW('졸업인증 꿈설계상담 안내'!$K$2)+1), ROW(A2))),"")} -> 26 | D7: {=IFERROR(INDEX('졸업인증 꿈설계상담 안내'!$L$2:$L$98, SMALL(IF('졸업인증 꿈설계상담 안내'!$M$2:$M$98= MID(CELL("filename",B7),FIND("]",CELL("filename",B7))+1,255), ROW('졸업인증 꿈설계상담 안내'!$L$2:$L$98)-ROW('졸업인증 꿈설계상담 안내'!$L$2)+1), ROW(A2))),"")} -> 유남혁
B8: {=IFERROR(INDEX('졸업인증 꿈설계상담 안내'!$J$2:$J$98, SMALL(IF('졸업인증 꿈설계상담 안내'!$M$2:$M$98= MID(CELL("filename",B8),FIND("]",CELL("filename",B8))+1,255), ROW('졸업인증 꿈설계상담 안내'!$J$2:$J$98)-ROW('졸업인증 꿈설계상담 안내'!$J$2)+1), ROW(A3))),"")} -> 1 | C8: {=IFERROR(INDEX('졸업인증 꿈설계상담 안내'!$K$2:$K$98, SMALL(IF('졸업인증 꿈설계상담 안내'!$M$2:$M$98= MID(CELL("filename",B8),FIND("]",CELL("filename",B8))+1,255), ROW('졸업인증 꿈설계상담 안내'!$K$2:$K$98)-ROW('졸업인증 꿈설계상담 안내'!$K$2)+1), ROW(A3))),"")} -> 26 | D8: {=IFERROR(INDEX('졸업인증 꿈설계상담 안내'!$L$2:$L$98, SMALL(IF('졸업인증 꿈설계상담 안내'!$M$2:$M$98= MID(CELL("filename",B8),FIND("]",CELL("filename",B8))+1,255), ROW('졸업인증 꿈설계상담 안내'!$L$2:$L$98)-ROW('졸업인증 꿈설계상담 안내'!$L$2)+1), ROW(A3))),"")} -> 윤혜원
B9: {=IFERROR(INDEX('졸업인증 꿈설계상담 안내'!$J$2:$J$98, SMALL(IF('졸업인증 꿈설계상담 안내'!$M$2:$M$98= MID(CELL("filename",B9),FIND("]",CELL("filename",B9))+1,255), ROW('졸업인증 꿈설계상담 안내'!$J$2:$J$98)-ROW('졸업인증 꿈설계상담 안내'!$J$2)+1), ROW(A4))),"")} -> 1 | C9: {=IFERROR(INDEX('졸업인증 꿈설계상담 안내'!$K$2:$K$98, SMALL(IF('졸업인증 꿈설계상담 안내'!$M$2:$M$98= MID(CELL("filename",B9),FIND("]",CELL("filename",B9))+1,255), ROW('졸업인증 꿈설계상담 안내'!$K$2:$K$98)-ROW('졸업인증 꿈설계상담 안내'!$K$2)+1), ROW(A4))),"")} -> 26 | D9: {=IFERROR(INDEX('졸업인증 꿈설계상담 안내'!$L$2:$L$98, SMALL(IF('졸업인증 꿈설계상담 안내'!$M$2:$M$98= MID(CELL("filename",B9),FIND("]",CELL("filename",B9))+1,255), ROW('졸업인증 꿈설계상담 안내'!$L$2:$L$98)-ROW('졸업인증 꿈설계상담 안내'!$L$2)+1), ROW(A4))),"")} -> 이현진
B10: {=IFERROR(INDEX('졸업인증 꿈설계상담 안내'!$J$2:$J$98, SMALL(IF('졸업인증 꿈설계상담 안내'!$M$2:$M$98= MID(CELL("filename",B10),FIND("]",CELL("filename",B10))+1,255), ROW('졸업인증 꿈설계상담 안내'!$J$2:$J$98)-ROW('졸업인증 꿈설계상담 안내'!$J$2)+1), ROW(A5))),"")} -> 2 | C10: {=IFERROR(INDEX('졸업인증 꿈설계상담 안내'!$K$2:$K$98, SMALL(IF('졸업인증 꿈설계상담 안내'!$M$2:$M$98= MID(CELL("filename",B10),FIND("]",CELL("filename",B10))+1,255), ROW('졸업인증 꿈설계상담 안내'!$K$2:$K$98)-ROW('졸업인증 꿈설계상담 안내'!$K$2)+1), ROW(A5))),"")} -> 25 | D10: {=IFERROR(INDEX('졸업인증 꿈설계상담 안내'!$L$2:$L$98, SMALL(IF('졸업인증 꿈설계상담 안내'!$M$2:$M$98= MID(CELL("filename",B10),FIND("]",CELL("filename",B10))+1,255), ROW('졸업인증 꿈설계상담 안내'!$L$2:$L$98)-ROW('졸업인증 꿈설계상담 안내'!$L$2)+1), ROW(A5))),"")} -> 국예림
B11: {=IFERROR(INDEX('졸업인증 꿈설계상담 안내'!$J$2:$J$98, SMALL(IF('졸업인증 꿈설계상담 안내'!$M$2:$M$98= MID(CELL("filename",B11),FIND("]",CELL("filename",B11))+1,255), ROW('졸업인증 꿈설계상담 안내'!$J$2:$J$98)-ROW('졸업인증 꿈설계상담 안내'!$J$2)+1), ROW(A6))),"")} -> 2 | C11: {=IFERROR(INDEX('졸업인증 꿈설계상담 안내'!$K$2:$K$98, SMALL(IF('졸업인증 꿈설계상담 안내'!$M$2:$M$98= MID(CELL("filename",B11),FIND("]",CELL("filename",B11))+1,255), ROW('졸업인증 꿈설계상담 안내'!$K$2:$K$98)-ROW('졸업인증 꿈설계상담 안내'!$K$2)+1), ROW(A6))),"")} -> 25 | D11: {=IFERROR(INDEX('졸업인증 꿈설계상담 안내'!$L$2:$L$98, SMALL(IF('졸업인증 꿈설계상담 안내'!$M$2:$M$98= MID(CELL("filename",B11),FIND("]",CELL("filename",B11))+1,255), ROW('졸업인증 꿈설계상담 안내'!$L$2:$L$98)-ROW('졸업인증 꿈설계상담 안내'!$L$2)+1), ROW(A6))),"")} -> 차예은
B12: {=IFERROR(INDEX('졸업인증 꿈설계상담 안내'!$J$2:$J$98, SMALL(IF('졸업인증 꿈설계상담 안내'!$M$2:$M$98= MID(CELL("filename",B12),FIND("]",CELL("filename",B12))+1,255), ROW('졸업인증 꿈설계상담 안내'!$J$2:$J$98)-ROW('졸업인증 꿈설계상담 안내'!$J$2)+1), ROW(A7))),"")} | C12: {=IFERROR(INDEX('졸업인증 꿈설계상담 안내'!$K$2:$K$98, SMALL(IF('졸업인증 꿈설계상담 안내'!$M$2:$M$98= MID(CELL("filename",B12),FIND("]",CELL("filename",B12))+1,255), ROW('졸업인증 꿈설계상담 안내'!$K$2:$K$98)-ROW('졸업인증 꿈설계상담 안내'!$K$2)+1), ROW(A7))),"")} | D12: {=IFERROR(INDEX('졸업인증 꿈설계상담 안내'!$L$2:$L$98, SMALL(IF('졸업인증 꿈설계상담 안내'!$M$2:$M$98= MID(CELL("filename",B12),FIND("]",CELL("filename",B12))+1,255), ROW('졸업인증 꿈설계상담 안내'!$L$2:$L$98)-ROW('졸업인증 꿈설계상담 안내'!$L$2)+1), ROW(A7))),"")}
B13: {=IFERROR(INDEX('졸업인증 꿈설계상담 안내'!$J$2:$J$98, SMALL(IF('졸업인증 꿈설계상담 안내'!$M$2:$M$98= MID(CELL("filename",B13),FIND("]",CELL("filename",B13))+1,255), ROW('졸업인증 꿈설계상담 안내'!$J$2:$J$98)-ROW('졸업인증 꿈설계상담 안내'!$J$2)+1), ROW(A8))),"")} | C13: {=IFERROR(INDEX('졸업인증 꿈설계상담 안내'!$K$2:$K$98, SMALL(IF('졸업인증 꿈설계상담 안내'!$M$2:$M$98= MID(CELL("filename",B13),FIND("]",CELL("filename",B13))+1,255), ROW('졸업인증 꿈설계상담 안내'!$K$2:$K$98)-ROW('졸업인증 꿈설계상담 안내'!$K$2)+1), ROW(A8))),"")} | D13: {=IFERROR(INDEX('졸업인증 꿈설계상담 안내'!$L$2:$L$98, SMALL(IF('졸업인증 꿈설계상담 안내'!$M$2:$M$98= MID(CELL("filename",B13),FIND("]",CELL("filename",B13))+1,255), ROW('졸업인증 꿈설계상담 안내'!$L$2:$L$98)-ROW('졸업인증 꿈설계상담 안내'!$L$2)+1), ROW(A8))),"")}
B14: 인원 | D14: =COUNT(B6:B13)&"명" -> 6명

Sheet 임주현
B2: 화학전공 비교과과정 꿈-설계상담
D3: 지도교수 | E3: 임주현 교수님
D4: 연구실 | E4: 자1-116호
B5: 학년 | C5: 학번 | D5: 성명 | E5: 비고
B6: 1 | C6: 25 | D6: 임소영
B7: 1 | C7: 25 | D7: 김무경
B8: 1 | C8: 25 | D8: 박시은
B9: 2 | C9: 23 | D9: 구선윤
B10: 2 | C10: 24 | D10: 오혜빈
B14: 인원 | D14: =COUNT(B6:B13)&"명" -> 5명

Sheet 정영미
B2: 화학전공 비교과과정 꿈-설계상담
D3: 지도교수 | E3: 정영미 교수님
D4: 연구실 | E4: 자1-315호
B5: 학년 | C5: 학번 | D5: 성명 | E5: 비고
B6: {=IFERROR(INDEX('졸업인증 꿈설계상담 안내'!$J$2:$J$98, SMALL(IF('졸업인증 꿈설계상담 안내'!$M$2:$M$98= MID(CELL("filename",B6),FIND("]",CELL("filename",B6))+1,255), ROW('졸업인증 꿈설계상담 안내'!$J$2:$J$98)-ROW('졸업인증 꿈설계상담 안내'!$J$2)+1), ROW(A1))),"")} -> 1 | C6: {=IFERROR(INDEX('졸업인증 꿈설계상담 안내'!$K$2:$K$98, SMALL(IF('졸업인증 꿈설계상담 안내'!$M$2:$M$98= MID(CELL("filename",B6),FIND("]",CELL("filename",B6))+1,255), ROW('졸업인증 꿈설계상담 안내'!$K$2:$K$98)-ROW('졸업인증 꿈설계상담 안내'!$K$2)+1), ROW(A1))),"")} -> 26 | D6: {=IFERROR(INDEX('졸업인증 꿈설계상담 안내'!$L$2:$L$98, SMALL(IF('졸업인증 꿈설계상담 안내'!$M$2:$M$98= MID(CELL("filename",B6),FIND("]",CELL("filename",B6))+1,255), ROW('졸업인증 꿈설계상담 안내'!$L$2:$L$98)-ROW('졸업인증 꿈설계상담 안내'!$L$2)+1), ROW(A1))),"")} -> 김동우
B7: {=IFERROR(INDEX('졸업인증 꿈설계상담 안내'!$J$2:$J$98, SMALL(IF('졸업인증 꿈설계상담 안내'!$M$2:$M$98= MID(CELL("filename",B7),FIND("]",CELL("filename",B7))+1,255), ROW('졸업인증 꿈설계상담 안내'!$J$2:$J$98)-ROW('졸업인증 꿈설계상담 안내'!$J$2)+1), ROW(A2))),"")} -> 1 | C7: {=IFERROR(INDEX('졸업인증 꿈설계상담 안내'!$K$2:$K$98, SMALL(IF('졸업인증 꿈설계상담 안내'!$M$2:$M$98= MID(CELL("filename",B7),FIND("]",CELL("filename",B7))+1,255), ROW('졸업인증 꿈설계상담 안내'!$K$2:$K$98)-ROW('졸업인증 꿈설계상담 안내'!$K$2)+1), ROW(A2))),"")} -> 26 | D7: {=IFERROR(INDEX('졸업인증 꿈설계상담 안내'!$L$2:$L$98, SMALL(IF('졸업인증 꿈설계상담 안내'!$M$2:$M$98= MID(CELL("filename",B7),FIND("]",CELL("filename",B7))+1,255), ROW('졸업인증 꿈설계상담 안내'!$L$2:$L$98)-ROW('졸업인증 꿈설계상담 안내'!$L$2)+1), ROW(A2))),"")} -> 김세영
B8: {=IFERROR(INDEX('졸업인증 꿈설계상담 안내'!$J$2:$J$98, SMALL(IF('졸업인증 꿈설계상담 안내'!$M$2:$M$98= MID(CELL("filename",B8),FIND("]",CELL("filename",B8))+1,255), ROW('졸업인증 꿈설계상담 안내'!$J$2:$J$98)-ROW('졸업인증 꿈설계상담 안내'!$J$2)+1), ROW(A3))),"")} -> 1 | C8: {=IFERROR(INDEX('졸업인증 꿈설계상담 안내'!$K$2:$K$98, SMALL(IF('졸업인증 꿈설계상담 안내'!$M$2:$M$98= MID(CELL("filename",B8),FIND("]",CELL("filename",B8))+1,255), ROW('졸업인증 꿈설계상담 안내'!$K$2:$K$98)-ROW('졸업인증 꿈설계상담 안내'!$K$2)+1), ROW(A3))),"")} -> 26 | D8: {=IFERROR(INDEX('졸업인증 꿈설계상담 안내'!$L$2:$L$98, SMALL(IF('졸업인증 꿈설계상담 안내'!$M$2:$M$98= MID(CELL("filename",B8),FIND("]",CELL("filename",B8))+1,255), ROW('졸업인증 꿈설계상담 안내'!$L$2:$L$98)-ROW('졸업인증 꿈설계상담 안내'!$L$2)+1), ROW(A3))),"")} -> 김소윤
B9: {=IFERROR(INDEX('졸업인증 꿈설계상담 안내'!$J$2:$J$98, SMALL(IF('졸업인증 꿈설계상담 안내'!$M$2:$M$98= MID(CELL("filename",B9),FIND("]",CELL("filename",B9))+1,255), ROW('졸업인증 꿈설계상담 안내'!$J$2:$J$98)-ROW('졸업인증 꿈설계상담 안내'!$J$2)+1), ROW(A4))),"")} -> 2 | C9: {=IFERROR(INDEX('졸업인증 꿈설계상담 안내'!$K$2:$K$98, SMALL(IF('졸업인증 꿈설계상담 안내'!$M$2:$M$98= MID(CELL("filename",B9),FIND("]",CELL("filename",B9))+1,255), ROW('졸업인증 꿈설계상담 안내'!$K$2:$K$98)-ROW('졸업인증 꿈설계상담 안내'!$K$2)+1), ROW(A4))),"")} -> 25 | D9: {=IFERROR(INDEX('졸업인증 꿈설계상담 안내'!$L$2:$L$98, SMALL(IF('졸업인증 꿈설계상담 안내'!$M$2:$M$98= MID(CELL("filename",B9),FIND("]",CELL("filename",B9))+1,255), ROW('졸업인증 꿈설계상담 안내'!$L$2:$L$98)-ROW('졸업인증 꿈설계상담 안내'!$L$2)+1), ROW(A4))),"")} -> 유지윤
B10: {=IFERROR(INDEX('졸업인증 꿈설계상담 안내'!$J$2:$J$98, SMALL(IF('졸업인증 꿈설계상담 안내'!$M$2:$M$98= MID(CELL("filename",B10),FIND("]",CELL("filename",B10))+1,255), ROW('졸업인증 꿈설계상담 안내'!$J$2:$J$98)-ROW('졸업인증 꿈설계상담 안내'!$J$2)+1), ROW(A5))),"")} -> 2 | C10: {=IFERROR(INDEX('졸업인증 꿈설계상담 안내'!$K$2:$K$98, SMALL(IF('졸업인증 꿈설계상담 안내'!$M$2:$M$98= MID(CELL("filename",B10),FIND("]",CELL("filename",B10))+1,255), ROW('졸업인증 꿈설계상담 안내'!$K$2:$K$98)-ROW('졸업인증 꿈설계상담 안내'!$K$2)+1), ROW(A5))),"")} -> 23 | D10: {=IFERROR(INDEX('졸업인증 꿈설계상담 안내'!$L$2:$L$98, SMALL(IF('졸업인증 꿈설계상담 안내'!$M$2:$M$98= MID(CELL("filename",B10),FIND("]",CELL("filename",B10))+1,255), ROW('졸업인증 꿈설계상담 안내'!$L$2:$L$98)-ROW('졸업인증 꿈설계상담 안내'!$L$2)+1), ROW(A5))),"")} -> 이강석
B11: {=IFERROR(INDEX('졸업인증 꿈설계상담 안내'!$J$2:$J$98, SMALL(IF('졸업인증 꿈설계상담 안내'!$M$2:$M$98= MID(CELL("filename",B11),FIND("]",CELL("filename",B11))+1,255), ROW('졸업인증 꿈설계상담 안내'!$J$2:$J$98)-ROW('졸업인증 꿈설계상담 안내'!$J$2)+1), ROW(A6))),"")} -> 3 | C11: {=IFERROR(INDEX('졸업인증 꿈설계상담 안내'!$K$2:$K$98, SMALL(IF('졸업인증 꿈설계상담 안내'!$M$2:$M$98= MID(CELL("filename",B11),FIND("]",CELL("filename",B11))+1,255), ROW('졸업인증 꿈설계상담 안내'!$K$2:$K$98)-ROW('졸업인증 꿈설계상담 안내'!$K$2)+1), ROW(A6))),"")} -> 24 | D11: {=IFERROR(INDEX('졸업인증 꿈설계상담 안내'!$L$2:$L$98, SMALL(IF('졸업인증 꿈설계상담 안내'!$M$2:$M$98= MID(CELL("filename",B11),FIND("]",CELL("filename",B11))+1,255), ROW('졸업인증 꿈설계상담 안내'!$L$2:$L$98)-ROW('졸업인증 꿈설계상담 안내'!$L$2)+1), ROW(A6))),"")} -> 허채은
B12: {=IFERROR(INDEX('졸업인증 꿈설계상담 안내'!$J$2:$J$98, SMALL(IF('졸업인증 꿈설계상담 안내'!$M$2:$M$98= MID(CELL("filename",B12),FIND("]",CELL("filename",B12))+1,255), ROW('졸업인증 꿈설계상담 안내'!$J$2:$J$98)-ROW('졸업인증 꿈설계상담 안내'!$J$2)+1), ROW(A7))),"")} | C12: {=IFERROR(INDEX('졸업인증 꿈설계상담 안내'!$K$2:$K$98, SMALL(IF('졸업인증 꿈설계상담 안내'!$M$2:$M$98= MID(CELL("filename",B12),FIND("]",CELL("filename",B12))+1,255), ROW('졸업인증 꿈설계상담 안내'!$K$2:$K$98)-ROW('졸업인증 꿈설계상담 안내'!$K$2)+1), ROW(A7))),"")} | D12: {=IFERROR(INDEX('졸업인증 꿈설계상담 안내'!$L$2:$L$98, SMALL(IF('졸업인증 꿈설계상담 안내'!$M$2:$M$98= MID(CELL("filename",B12),FIND("]",CELL("filename",B12))+1,255), ROW('졸업인증 꿈설계상담 안내'!$L$2:$L$98)-ROW('졸업인증 꿈설계상담 안내'!$L$2)+1), ROW(A7))),"")}
B13: {=IFERROR(INDEX('졸업인증 꿈설계상담 안내'!$J$2:$J$98, SMALL(IF('졸업인증 꿈설계상담 안내'!$M$2:$M$98= MID(CELL("filename",B13),FIND("]",CELL("filename",B13))+1,255), ROW('졸업인증 꿈설계상담 안내'!$J$2:$J$98)-ROW('졸업인증 꿈설계상담 안내'!$J$2)+1), ROW(A8))),"")} | C13: {=IFERROR(INDEX('졸업인증 꿈설계상담 안내'!$K$2:$K$98, SMALL(IF('졸업인증 꿈설계상담 안내'!$M$2:$M$98= MID(CELL("filename",B13),FIND("]",CELL("filename",B13))+1,255), ROW('졸업인증 꿈설계상담 안내'!$K$2:$K$98)-ROW('졸업인증 꿈설계상담 안내'!$K$2)+1), ROW(A8))),"")} | D13: {=IFERROR(INDEX('졸업인증 꿈설계상담 안내'!$L$2:$L$98, SMALL(IF('졸업인증 꿈설계상담 안내'!$M$2:$M$98= MID(CELL("filename",B13),FIND("]",CELL("filename",B13))+1,255), ROW('졸업인증 꿈설계상담 안내'!$L$2:$L$98)-ROW('졸업인증 꿈설계상담 안내'!$L$2)+1), ROW(A8))),"")}
B14: 인원 | D14: =COUNT(B6:B13)&"명" -> 6명

Sheet 조아라
B2: 화학전공 비교과과정 꿈-설계상담
D3: 지도교수 | E3: 조아라 교수님
D4: 연구실 | E4: 자1-317호
B5: 학년 | C5: 학번 | D5: 성명 | E5: 비고
B6: {=IFERROR(INDEX('졸업인증 꿈설계상담 안내'!$J$2:$J$98, SMALL(IF('졸업인증 꿈설계상담 안내'!$M$2:$M$98= MID(CELL("filename",B6),FIND("]",CELL("filename",B6))+1,255), ROW('졸업인증 꿈설계상담 안내'!$J$2:$J$98)-ROW('졸업인증 꿈설계상담 안내'!$J$2)+1), ROW(A1))),"")} -> 1 | C6: {=IFERROR(INDEX('졸업인증 꿈설계상담 안내'!$K$2:$K$98, SMALL(IF('졸업인증 꿈설계상담 안내'!$M$2:$M$98= MID(CELL("filename",B6),FIND("]",CELL("filename",B6))+1,255), ROW('졸업인증 꿈설계상담 안내'!$K$2:$K$98)-ROW('졸업인증 꿈설계상담 안내'!$K$2)+1), ROW(A1))),"")} -> 26 | D6: {=IFERROR(INDEX('졸업인증 꿈설계상담 안내'!$L$2:$L$98, SMALL(IF('졸업인증 꿈설계상담 안내'!$M$2:$M$98= MID(CELL("filename",B6),FIND("]",CELL("filename",B6))+1,255), ROW('졸업인증 꿈설계상담 안내'!$L$2:$L$98)-ROW('졸업인증 꿈설계상담 안내'!$L$2)+1), ROW(A1))),"")} -> 이규환
B7: {=IFERROR(INDEX('졸업인증 꿈설계상담 안내'!$J$2:$J$98, SMALL(IF('졸업인증 꿈설계상담 안내'!$M$2:$M$98= MID(CELL("filename",B7),FIND("]",CELL("filename",B7))+1,255), ROW('졸업인증 꿈설계상담 안내'!$J$2:$J$98)-ROW('졸업인증 꿈설계상담 안내'!$J$2)+1), ROW(A2))),"")} -> 1 | C7: {=IFERROR(INDEX('졸업인증 꿈설계상담 안내'!$K$2:$K$98, SMALL(IF('졸업인증 꿈설계상담 안내'!$M$2:$M$98= MID(CELL("filename",B7),FIND("]",CELL("filename",B7))+1,255), ROW('졸업인증 꿈설계상담 안내'!$K$2:$K$98)-ROW('졸업인증 꿈설계상담 안내'!$K$2)+1), ROW(A2))),"")} -> 26 | D7: {=IFERROR(INDEX('졸업인증 꿈설계상담 안내'!$L$2:$L$98, SMALL(IF('졸업인증 꿈설계상담 안내'!$M$2:$M$98= MID(CELL("filename",B7),FIND("]",CELL("filename",B7))+1,255), ROW('졸업인증 꿈설계상담 안내'!$L$2:$L$98)-ROW('졸업인증 꿈설계상담 안내'!$L$2)+1), ROW(A2))),"")} -> 이동현
B8: {=IFERROR(INDEX('졸업인증 꿈설계상담 안내'!$J$2:$J$98, SMALL(IF('졸업인증 꿈설계상담 안내'!$M$2:$M$98= MID(CELL("filename",B8),FIND("]",CELL("filename",B8))+1,255), ROW('졸업인증 꿈설계상담 안내'!$J$2:$J$98)-ROW('졸업인증 꿈설계상담 안내'!$J$2)+1), ROW(A3))),"")} -> 1 | C8: {=IFERROR(INDEX('졸업인증 꿈설계상담 안내'!$K$2:$K$98, SMALL(IF('졸업인증 꿈설계상담 안내'!$M$2:$M$98= MID(CELL("filename",B8),FIND("]",CELL("filename",B8))+1,255), ROW('졸업인증 꿈설계상담 안내'!$K$2:$K$98)-ROW('졸업인증 꿈설계상담 안내'!$K$2)+1), ROW(A3))),"")} -> 26 | D8: {=IFERROR(INDEX('졸업인증 꿈설계상담 안내'!$L$2:$L$98, SMALL(IF('졸업인증 꿈설계상담 안내'!$M$2:$M$98= MID(CELL("filename",B8),FIND("]",CELL("filename",B8))+1,255), ROW('졸업인증 꿈설계상담 안내'!$L$2:$L$98)-ROW('졸업인증 꿈설계상담 안내'!$L$2)+1), ROW(A3))),"")} -> 전다민
B9: {=IFERROR(INDEX('졸업인증 꿈설계상담 안내'!$J$2:$J$98, SMALL(IF('졸업인증 꿈설계상담 안내'!$M$2:$M$98= MID(CELL("filename",B9),FIND("]",CELL("filename",B9))+1,255), ROW('졸업인증 꿈설계상담 안내'!$J$2:$J$98)-ROW('졸업인증 꿈설계상담 안내'!$J$2)+1), ROW(A4))),"")} -> 1 | C9: {=IFERROR(INDEX('졸업인증 꿈설계상담 안내'!$K$2:$K$98, SMALL(IF('졸업인증 꿈설계상담 안내'!$M$2:$M$98= MID(CELL("filename",B9),FIND("]",CELL("filename",B9))+1,255), ROW('졸업인증 꿈설계상담 안내'!$K$2:$K$98)-ROW('졸업인증 꿈설계상담 안내'!$K$2)+1), ROW(A4))),"")} -> 26 | D9: {=IFERROR(INDEX('졸업인증 꿈설계상담 안내'!$L$2:$L$98, SMALL(IF('졸업인증 꿈설계상담 안내'!$M$2:$M$98= MID(CELL("filename",B9),FIND("]",CELL("filename",B9))+1,255), ROW('졸업인증 꿈설계상담 안내'!$L$2:$L$98)-ROW('졸업인증 꿈설계상담 안내'!$L$2)+1), ROW(A4))),"")} -> 정예담
B10: {=IFERROR(INDEX('졸업인증 꿈설계상담 안내'!$J$2:$J$98, SMALL(IF('졸업인증 꿈설계상담 안내'!$M$2:$M$98= MID(CELL("filename",B10),FIND("]",CELL("filename",B10))+1,255), ROW('졸업인증 꿈설계상담 안내'!$J$2:$J$98)-ROW('졸업인증 꿈설계상담 안내'!$J$2)+1), ROW(A5))),"")} -> 2 | C10: {=IFERROR(INDEX('졸업인증 꿈설계상담 안내'!$K$2:$K$98, SMALL(IF('졸업인증 꿈설계상담 안내'!$M$2:$M$98= MID(CELL("filename",B10),FIND("]",CELL("filename",B10))+1,255), ROW('졸업인증 꿈설계상담 안내'!$K$2:$K$98)-ROW('졸업인증 꿈설계상담 안내'!$K$2)+1), ROW(A5))),"")} -> 25 | D10: {=IFERROR(INDEX('졸업인증 꿈설계상담 안내'!$L$2:$L$98, SMALL(IF('졸업인증 꿈설계상담 안내'!$M$2:$M$98= MID(CELL("filename",B10),FIND("]",CELL("filename",B10))+1,255), ROW('졸업인증 꿈설계상담 안내'!$L$2:$L$98)-ROW('졸업인증 꿈설계상담 안내'!$L$2)+1), ROW(A5))),"")} -> 신지수
B11: {=IFERROR(INDEX('졸업인증 꿈설계상담 안내'!$J$2:$J$98, SMALL(IF('졸업인증 꿈설계상담 안내'!$M$2:$M$98= MID(CELL("filename",B11),FIND("]",CELL("filename",B11))+1,255), ROW('졸업인증 꿈설계상담 안내'!$J$2:$J$98)-ROW('졸업인증 꿈설계상담 안내'!$J$2)+1), ROW(A6))),"")} -> 2 | C11: {=IFERROR(INDEX('졸업인증 꿈설계상담 안내'!$K$2:$K$98, SMALL(IF('졸업인증 꿈설계상담 안내'!$M$2:$M$98= MID(CELL("filename",B11),FIND("]",CELL("filename",B11))+1,255), ROW('졸업인증 꿈설계상담 안내'!$K$2:$K$98)-ROW('졸업인증 꿈설계상담 안내'!$K$2)+1), ROW(A6))),"")} -> 25 | D11: {=IFERROR(INDEX('졸업인증 꿈설계상담 안내'!$L$2:$L$98, SMALL(IF('졸업인증 꿈설계상담 안내'!$M$2:$M$98= MID(CELL("filename",B11),FIND("]",CELL("filename",B11))+1,255), ROW('졸업인증 꿈설계상담 안내'!$L$2:$L$98)-ROW('졸업인증 꿈설계상담 안내'!$L$2)+1), ROW(A6))),"")} -> 조유민
B12: {=IFERROR(INDEX('졸업인증 꿈설계상담 안내'!$J$2:$J$98, SMALL(IF('졸업인증 꿈설계상담 안내'!$M$2:$M$98= MID(CELL("filename",B12),FIND("]",CELL("filename",B12))+1,255), ROW('졸업인증 꿈설계상담 안내'!$J$2:$J$98)-ROW('졸업인증 꿈설계상담 안내'!$J$2)+1), ROW(A7))),"")} | C12: {=IFERROR(INDEX('졸업인증 꿈설계상담 안내'!$K$2:$K$98, SMALL(IF('졸업인증 꿈설계상담 안내'!$M$2:$M$98= MID(CELL("filename",B12),FIND("]",CELL("filename",B12))+1,255), ROW('졸업인증 꿈설계상담 안내'!$K$2:$K$98)-ROW('졸업인증 꿈설계상담 안내'!$K$2)+1), ROW(A7))),"")} | D12: {=IFERROR(INDEX('졸업인증 꿈설계상담 안내'!$L$2:$L$98, SMALL(IF('졸업인증 꿈설계상담 안내'!$M$2:$M$98= MID(CELL("filename",B12),FIND("]",CELL("filename",B12))+1,255), ROW('졸업인증 꿈설계상담 안내'!$L$2:$L$98)-ROW('졸업인증 꿈설계상담 안내'!$L$2)+1), ROW(A7))),"")}
B13: {=IFERROR(INDEX('졸업인증 꿈설계상담 안내'!$J$2:$J$98, SMALL(IF('졸업인증 꿈설계상담 안내'!$M$2:$M$98= MID(CELL("filename",B13),FIND("]",CELL("filename",B13))+1,255), ROW('졸업인증 꿈설계상담 안내'!$J$2:$J$98)-ROW('졸업인증 꿈설계상담 안내'!$J$2)+1), ROW(A8))),"")} | C13: {=IFERROR(INDEX('졸업인증 꿈설계상담 안내'!$K$2:$K$98, SMALL(IF('졸업인증 꿈설계상담 안내'!$M$2:$M$98= MID(CELL("filename",B13),FIND("]",CELL("filename",B13))+1,255), ROW('졸업인증 꿈설계상담 안내'!$K$2:$K$98)-ROW('졸업인증 꿈설계상담 안내'!$K$2)+1), ROW(A8))),"")} | D13: {=IFERROR(INDEX('졸업인증 꿈설계상담 안내'!$L$2:$L$98, SMALL(IF('졸업인증 꿈설계상담 안내'!$M$2:$M$98= MID(CELL("filename",B13),FIND("]",CELL("filename",B13))+1,255), ROW('졸업인증 꿈설계상담 안내'!$L$2:$L$98)-ROW('졸업인증 꿈설계상담 안내'!$L$2)+1), ROW(A8))),"")}
B14: 인원 | D14: =COUNT(B6:B13)&"명" -> 6명

Sheet 황현석
B2: 화학전공 비교과과정 꿈-설계상담
D3: 지도교수 | E3: 황현석 교수님
D4: 연구실 | E4: 자1-309호
B5: 학년 | C5: 학번 | D5: 성명 | E5: 비고
B6: {=IFERROR(INDEX('졸업인증 꿈설계상담 안내'!$J$2:$J$98, SMALL(IF('졸업인증 꿈설계상담 안내'!$M$2:$M$98= MID(CELL("filename",B6),FIND("]",CELL("filename",B6))+1,255), ROW('졸업인증 꿈설계상담 안내'!$J$2:$J$98)-ROW('졸업인증 꿈설계상담 안내'!$J$2)+1), ROW(A1))),"")} -> 1 | C6: {=IFERROR(INDEX('졸업인증 꿈설계상담 안내'!$K$2:$K$98, SMALL(IF('졸업인증 꿈설계상담 안내'!$M$2:$M$98= MID(CELL("filename",B6),FIND("]",CELL("filename",B6))+1,255), ROW('졸업인증 꿈설계상담 안내'!$K$2:$K$98)-ROW('졸업인증 꿈설계상담 안내'!$K$2)+1), ROW(A1))),"")} -> 26 | D6: {=IFERROR(INDEX('졸업인증 꿈설계상담 안내'!$L$2:$L$98, SMALL(IF('졸업인증 꿈설계상담 안내'!$M$2:$M$98= MID(CELL("filename",B6),FIND("]",CELL("filename",B6))+1,255), ROW('졸업인증 꿈설계상담 안내'!$L$2:$L$98)-ROW('졸업인증 꿈설계상담 안내'!$L$2)+1), ROW(A1))),"")} -> 김은아
B7: {=IFERROR(INDEX('졸업인증 꿈설계상담 안내'!$J$2:$J$98, SMALL(IF('졸업인증 꿈설계상담 안내'!$M$2:$M$98= MID(CELL("filename",B7),FIND("]",CELL("filename",B7))+1,255), ROW('졸업인증 꿈설계상담 안내'!$J$2:$J$98)-ROW('졸업인증 꿈설계상담 안내'!$J$2)+1), ROW(A2))),"")} -> 1 | C7: {=IFERROR(INDEX('졸업인증 꿈설계상담 안내'!$K$2:$K$98, SMALL(IF('졸업인증 꿈설계상담 안내'!$M$2:$M$98= MID(CELL("filename",B7),FIND("]",CELL("filename",B7))+1,255), ROW('졸업인증 꿈설계상담 안내'!$K$2:$K$98)-ROW('졸업인증 꿈설계상담 안내'!$K$2)+1), ROW(A2))),"")} -> 26 | D7: {=IFERROR(INDEX('졸업인증 꿈설계상담 안내'!$L$2:$L$98, SMALL(IF('졸업인증 꿈설계상담 안내'!$M$2:$M$98= MID(CELL("filename",B7),FIND("]",CELL("filename",B7))+1,255), ROW('졸업인증 꿈설계상담 안내'!$L$2:$L$98)-ROW('졸업인증 꿈설계상담 안내'!$L$2)+1), ROW(A2))),"")} -> 김태우
B8: {=IFERROR(INDEX('졸업인증 꿈설계상담 안내'!$J$2:$J$98, SMALL(IF('졸업인증 꿈설계상담 안내'!$M$2:$M$98= MID(CELL("filename",B8),FIND("]",CELL("filename",B8))+1,255), ROW('졸업인증 꿈설계상담 안내'!$J$2:$J$98)-ROW('졸업인증 꿈설계상담 안내'!$J$2)+1), ROW(A3))),"")} -> 1 | C8: {=IFERROR(INDEX('졸업인증 꿈설계상담 안내'!$K$2:$K$98, SMALL(IF('졸업인증 꿈설계상담 안내'!$M$2:$M$98= MID(CELL("filename",B8),FIND("]",CELL("filename",B8))+1,255), ROW('졸업인증 꿈설계상담 안내'!$K$2:$K$98)-ROW('졸업인증 꿈설계상담 안내'!$K$2)+1), ROW(A3))),"")} -> 26 | D8: {=IFERROR(INDEX('졸업인증 꿈설계상담 안내'!$L$2:$L$98, SMALL(IF('졸업인증 꿈설계상담 안내'!$M$2:$M$98= MID(CELL("filename",B8),FIND("]",CELL("filename",B8))+1,255), ROW('졸업인증 꿈설계상담 안내'!$L$2:$L$98)-ROW('졸업인증 꿈설계상담 안내'!$L$2)+1), ROW(A3))),"")} -> 남지해
B9: {=IFERROR(INDEX('졸업인증 꿈설계상담 안내'!$J$2:$J$98, SMALL(IF('졸업인증 꿈설계상담 안내'!$M$2:$M$98= MID(CELL("filename",B9),FIND("]",CELL("filename",B9))+1,255), ROW('졸업인증 꿈설계상담 안내'!$J$2:$J$98)-ROW('졸업인증 꿈설계상담 안내'!$J$2)+1), ROW(A4))),"")} -> 2 | C9: {=IFERROR(INDEX('졸업인증 꿈설계상담 안내'!$K$2:$K$98, SMALL(IF('졸업인증 꿈설계상담 안내'!$M$2:$M$98= MID(CELL("filename",B9),FIND("]",CELL("filename",B9))+1,255), ROW('졸업인증 꿈설계상담 안내'!$K$2:$K$98)-ROW('졸업인증 꿈설계상담 안내'!$K$2)+1), ROW(A4))),"")} -> 24 | D9: {=IFERROR(INDEX('졸업인증 꿈설계상담 안내'!$L$2:$L$98, SMALL(IF('졸업인증 꿈설계상담 안내'!$M$2:$M$98= MID(CELL("filename",B9),FIND("]",CELL("filename",B9))+1,255), ROW('졸업인증 꿈설계상담 안내'!$L$2:$L$98)-ROW('졸업인증 꿈설계상담 안내'!$L$2)+1), ROW(A4))),"")} -> 김형준
B10: {=IFERROR(INDEX('졸업인증 꿈설계상담 안내'!$J$2:$J$98, SMALL(IF('졸업인증 꿈설계상담 안내'!$M$2:$M$98= MID(CELL("filename",B10),FIND("]",CELL("filename",B10))+1,255), ROW('졸업인증 꿈설계상담 안내'!$J$2:$J$98)-ROW('졸업인증 꿈설계상담 안내'!$J$2)+1), ROW(A5))),"")} -> 2 | C10: {=IFERROR(INDEX('졸업인증 꿈설계상담 안내'!$K$2:$K$98, SMALL(IF('졸업인증 꿈설계상담 안내'!$M$2:$M$98= MID(CELL("filename",B10),FIND("]",CELL("filename",B10))+1,255), ROW('졸업인증 꿈설계상담 안내'!$K$2:$K$98)-ROW('졸업인증 꿈설계상담 안내'!$K$2)+1), ROW(A5))),"")} -> 25 | D10: {=IFERROR(INDEX('졸업인증 꿈설계상담 안내'!$L$2:$L$98, SMALL(IF('졸업인증 꿈설계상담 안내'!$M$2:$M$98= MID(CELL("filename",B10),FIND("]",CELL("filename",B10))+1,255), ROW('졸업인증 꿈설계상담 안내'!$L$2:$L$98)-ROW('졸업인증 꿈설계상담 안내'!$L$2)+1), ROW(A5))),"")} -> 양예은
B11: {=IFERROR(INDEX('졸업인증 꿈설계상담 안내'!$J$2:$J$98, SMALL(IF('졸업인증 꿈설계상담 안내'!$M$2:$M$98= MID(CELL("filename",B11),FIND("]",CELL("filename",B11))+1,255), ROW('졸업인증 꿈설계상담 안내'!$J$2:$J$98)-ROW('졸업인증 꿈설계상담 안내'!$J$2)+1), ROW(A6))),"")} -> 2 | C11: {=IFERROR(INDEX('졸업인증 꿈설계상담 안내'!$K$2:$K$98, SMALL(IF('졸업인증 꿈설계상담 안내'!$M$2:$M$98= MID(CELL("filename",B11),FIND("]",CELL("filename",B11))+1,255), ROW('졸업인증 꿈설계상담 안내'!$K$2:$K$98)-ROW('졸업인증 꿈설계상담 안내'!$K$2)+1), ROW(A6))),"")} -> 25 | D11: {=IFERROR(INDEX('졸업인증 꿈설계상담 안내'!$L$2:$L$98, SMALL(IF('졸업인증 꿈설계상담 안내'!$M$2:$M$98= MID(CELL("filename",B11),FIND("]",CELL("filename",B11))+1,255), ROW('졸업인증 꿈설계상담 안내'!$L$2:$L$98)-ROW('졸업인증 꿈설계상담 안내'!$L$2)+1), ROW(A6))),"")} -> 조수빈
B12: {=IFERROR(INDEX('졸업인증 꿈설계상담 안내'!$J$2:$J$98, SMALL(IF('졸업인증 꿈설계상담 안내'!$M$2:$M$98= MID(CELL("filename",B12),FIND("]",CELL("filename",B12))+1,255), ROW('졸업인증 꿈설계상담 안내'!$J$2:$J$98)-ROW('졸업인증 꿈설계상담 안내'!$J$2)+1), ROW(A7))),"")} | C12: {=IFERROR(INDEX('졸업인증 꿈설계상담 안내'!$K$2:$K$98, SMALL(IF('졸업인증 꿈설계상담 안내'!$M$2:$M$98= MID(CELL("filename",B12),FIND("]",CELL("filename",B12))+1,255), ROW('졸업인증 꿈설계상담 안내'!$K$2:$K$98)-ROW('졸업인증 꿈설계상담 안내'!$K$2)+1), ROW(A7))),"")} | D12: {=IFERROR(INDEX('졸업인증 꿈설계상담 안내'!$L$2:$L$98, SMALL(IF('졸업인증 꿈설계상담 안내'!$M$2:$M$98= MID(CELL("filename",B12),FIND("]",CELL("filename",B12))+1,255), ROW('졸업인증 꿈설계상담 안내'!$L$2:$L$98)-ROW('졸업인증 꿈설계상담 안내'!$L$2)+1), ROW(A7))),"")}
B13: {=IFERROR(INDEX('졸업인증 꿈설계상담 안내'!$J$2:$J$98, SMALL(IF('졸업인증 꿈설계상담 안내'!$M$2:$M$98= MID(CELL("filename",B13),FIND("]",CELL("filename",B13))+1,255), ROW('졸업인증 꿈설계상담 안내'!$J$2:$J$98)-ROW('졸업인증 꿈설계상담 안내'!$J$2)+1), ROW(A8))),"")} | C13: {=IFERROR(INDEX('졸업인증 꿈설계상담 안내'!$K$2:$K$98, SMALL(IF('졸업인증 꿈설계상담 안내'!$M$2:$M$98= MID(CELL("filename",B13),FIND("]",CELL("filename",B13))+1,255), ROW('졸업인증 꿈설계상담 안내'!$K$2:$K$98)-ROW('졸업인증 꿈설계상담 안내'!$K$2)+1), ROW(A8))),"")} | D13: {=IFERROR(INDEX('졸업인증 꿈설계상담 안내'!$L$2:$L$98, SMALL(IF('졸업인증 꿈설계상담 안내'!$M$2:$M$98= MID(CELL("filename",B13),FIND("]",CELL("filename",B13))+1,255), ROW('졸업인증 꿈설계상담 안내'!$L$2:$L$98)-ROW('졸업인증 꿈설계상담 안내'!$L$2)+1), ROW(A8))),"")}
B14: 인원 | D14: =COUNT(B6:B13)&"명" -> 6명
